BEGIN:VCALENDAR
VERSION:2.0
PRODID:-//ChamberMaster//Event Calendar 2.0//EN
METHOD:PUBLISH
X-PUBLISHED-TTL:P3D
REFRESH-INTERVAL:P3D
CALSCALE:GREGORIAN
BEGIN:VEVENT
DTSTART:20230605T200000Z
DTEND:20230605T220000Z
X-MICROSOFT-CDO-ALLDAYEVENT:FALSE
SUMMARY:Next in Bio: Building the Discovery and Innovation Pipeline “From Kendall Square to Kelley Square”
DESCRIPTION:Biotechnology not only grows the economy and workforce\, but improves the quality of our lives and the environment. \n\n\n\nOver the past two decades\, Cambridge has been the destination for biotech in Massachusetts. Talent\, research and funding are now moving west along the Massachusetts "Bio Pike." Industry leaders see Kelley Square in Worcester as becoming a natural extension of the Kendall Square bioeconomy.  \n\n \n\nJoin us at WPI Seaport for a special opportunity to learn more about this important shift and exciting innovations taking place within this sector. During the program\, you will hear from and engage with panelists\, industry partners\, and educators and enjoy spectacular Boston Harbor views during a reception on the roof deck.\n\n \n\nAdvanced registration is requested. Space is limited\, please register early!
X-ALT-DESC;FMTTYPE=text/html:Biotechnology not only grows the economy and workforce\, but&nbsp\;improves the quality of our lives and the environment.&nbsp\;<br />\n<br />\nOver the past two decades\, Cambridge has been&nbsp\;<em>the</em>&nbsp\;destination for biotech in Massachusetts. Talent\, research and funding are now moving west along the Massachusetts &quot\;Bio Pike.&quot\; Industry leaders see Kelley Square in Worcester as becoming a natural extension of the Kendall Square bioeconomy. &nbsp\;<br />\n&nbsp\;<br />\n<strong>Join us at WPI Seaport for a special opportunity to learn more about this important shift and exciting innovations taking place within this sector.&nbsp\;</strong>During the program\, you will hear from and engage with panelists\, industry partners\, and educators and&nbsp\;<strong>enjoy spectacular Boston Harbor views during a reception on the roof deck.</strong><br />\n&nbsp\;<br />\n<strong>Advanced registration is requested. Space is limited\,<a href="https://nam11.safelinks.protection.outlook.com/?url=https%3A%2F%2Fwpiadvancement.tfaforms.net%2F859%26tfa_4355%3DWebsite&amp\;data=05%7C01%7Cldrexhage%40wpi.edu%7Cd64ef33f892f4f52c4fc08db5e1fd078%7C589c76f5ca1541f9884b55ec15a0672a%7C0%7C0%7C638207262952153869%7CUnknown%7CTWFpbGZsb3d8eyJWIjoiMC4wLjAwMDAiLCJQIjoiV2luMzIiLCJBTiI6Ik1haWwiLCJXVCI6Mn0%3D%7C3000%7C%7C%7C&amp\;sdata=WJZ9gVQKMQmRp52hoBDcW12MHI%2FWkeccKHeKrr%2BI5iA%3D&amp\;reserved=0">&nbsp\;please register early!&nbsp\;</a></strong>
LOCATION:WPI Seaport 303 Congress St 1st floor Boston\, MA 02210
UID:e.2083.15973
SEQUENCE:3
DTSTAMP:20260421T005325Z
URL:https://business.cmschamber.org/events/details/next-in-bio-building-the-discovery-and-innovation-pipeline-from-kendall-square-to-kelley-square-15973
END:VEVENT

END:VCALENDAR
