BEGIN:VCALENDAR
VERSION:2.0
PRODID:-//ChamberMaster//Event Calendar 2.0//EN
METHOD:PUBLISH
X-PUBLISHED-TTL:P3D
REFRESH-INTERVAL:P3D
CALSCALE:GREGORIAN
BEGIN:VEVENT
DTSTART:20230714T220000Z
DTEND:20230715T010000Z
X-MICROSOFT-CDO-ALLDAYEVENT:FALSE
SUMMARY:Night Owls: BBQ Bash
DESCRIPTION:Night Owls: BBQ Bash!\n\nFriday\, July 14\n\n6:00 pm   9:00 pm\n\nJoin us for Night Owls: BBQ Bash!\n\nEnjoy an evening in the museum while stirring up a conversation over drinks. Each Night Owl event includes exciting experiences\, a cash bar\, and food for purchase. Bring a friend\, a date\, or come to mingle and network!\n\nAdmission: $15 per person\, $10 for members\n\nGet Tickets: https://ecotarium.org/event/night-owls-bbq-bash/
X-ALT-DESC;FMTTYPE=text/html:<p><strong>Night Owls: BBQ Bash!</strong><br />\n<strong>Friday\, July 14</strong><br />\n<strong>6:00 pm &ndash\; 9:00 pm</strong></p>\n\n<p>Join us for Night Owls: BBQ Bash!</p>\n\n<p>Enjoy an evening in the museum while stirring up a conversation over drinks. Each Night Owl event includes exciting experiences\, a cash bar\, and food for purchase. Bring a friend\, a date\, or come to mingle and network!</p>\n\n<p><strong>Admission:</strong>&nbsp\;$15 per person\, $10 for members<br />\n<strong>Get Tickets:</strong>&nbsp\;https://ecotarium.org/event/night-owls-bbq-bash/</p>\n
LOCATION:222 Harrington Way\, Worcester\, MA 01604
UID:e.2083.16027
SEQUENCE:3
DTSTAMP:20260420T224541Z
URL:https://business.cmschamber.org/events/details/night-owls-bbq-bash-16027
END:VEVENT

END:VCALENDAR
