BEGIN:VCALENDAR
VERSION:2.0
PRODID:-//ChamberMaster//Event Calendar 2.0//EN
METHOD:PUBLISH
X-PUBLISHED-TTL:P3D
REFRESH-INTERVAL:P3D
CALSCALE:GREGORIAN
BEGIN:VEVENT
DTSTART:20230715T210000Z
DTEND:20230716T223000Z
X-MICROSOFT-CDO-ALLDAYEVENT:FALSE
SUMMARY:Not So New New Englanders
DESCRIPTION:Old Sturbridge Village invites you to enjoy a unique theatre experience! Inspired by the writing of students at Old Sturbridge Academy Charter Public School and Robert Brown (author of The New New Englanders)\, Not So New New Englanders is an educational and engaging play co-written by Jasmin Rivas\, director of DEIA at Old Sturbridge Village\, and Aprell May Daily\, writer and Journalist for the Springfield Republican.\n\n\n\nIn this approximately 90-minute program\, audience members will watch as three students go on a journey of discovering the incredible stories and experiences of underrepresented people in the History of Southbridge\, Springfield\, and Worcester. Through this they learn more about themselves\, the community\, and our society as it exists both in the past and the present. Audience members will learn about little-known historical figures\, communities\, and cultures in New England history through stories told by them in a unique multi-media production.\n\n\n\nOn Saturday\, July 15th\, there will be an American Sign Language interpreter present during the show.\n\n\n\nPlease note: This production includes topics such as racism\, slavery\, and police brutality.\n\n\n\nThis program will be in the Stephen M. Brewer Theater\, located in the Visitor Center at Old Sturbridge Village. Pre-registration is highly recommended. \n\n\n\nSpecial thanks to the Greater Worcester Community Foundation for funding the production and to James Connelly for his efforts in historical research and grant writing. Not So New New Englanders is directed by Jasmin Rivas.
X-ALT-DESC;FMTTYPE=text/html:<span style="color:rgb(29\, 16\, 44)\; font-family:museo sans w01\,helvetica neue\,helvetica\,helvetica\,arial\,sans-serif\; font-size:14px">Old Sturbridge Village invites you to enjoy a unique theatre experience! Inspired by the writing of students at Old Sturbridge Academy Charter Public School and Robert Brown (author of The New New Englanders)\, Not So New New Englanders is an educational and engaging play co-written by Jasmin Rivas\, director of DEIA at Old Sturbridge Village\, and Aprell May Daily\, writer and Journalist for the Springfield Republican.</span><br />\n<br />\n<span style="color:rgb(29\, 16\, 44)\; font-family:museo sans w01\,helvetica neue\,helvetica\,helvetica\,arial\,sans-serif\; font-size:14px">In this approximately 90-minute program\, audience members will watch as three students go on a journey of discovering the incredible stories and experiences of underrepresented people in the History of Southbridge\, Springfield\, and Worcester. Through this they learn more about themselves\, the community\, and our society as it exists both in the past and the present. Audience members will learn about little-known historical figures\, communities\, and cultures in New England history through stories told by them in a unique multi-media production.</span><br />\n<br />\n<span style="color:rgb(29\, 16\, 44)\; font-family:museo sans w01\,helvetica neue\,helvetica\,helvetica\,arial\,sans-serif\; font-size:14px">On Saturday\, July 15th\, there will be an American Sign Language interpreter present during the show.</span><br />\n<br />\n<span style="color:rgb(29\, 16\, 44)\; font-family:museo sans w01\,helvetica neue\,helvetica\,helvetica\,arial\,sans-serif\; font-size:14px">Please note: This production includes topics such as racism\, slavery\, and police brutality.</span><br />\n<br />\n<span style="color:rgb(29\, 16\, 44)\; font-family:museo sans w01\,helvetica neue\,helvetica\,helvetica\,arial\,sans-serif\; font-size:14px">This program will be in the Stephen M. Brewer Theater\, located in the Visitor Center at Old Sturbridge Village. Pre-registration is highly recommended. </span><br />\n<br />\n<span style="color:rgb(29\, 16\, 44)\; font-family:museo sans w01\,helvetica neue\,helvetica\,helvetica\,arial\,sans-serif\; font-size:14px">Special thanks to the Greater Worcester Community Foundation for funding the production and to James Connelly for his efforts in historical research and grant writing. Not So New New Englanders is directed by Jasmin Rivas.</span>
LOCATION:Stephen M. Brewer Theater in the Visitors Center at Old Sturbridge Village 1 Old Sturbridge Village Rd\, Sturbridge\, MA\, 01566
UID:e.2083.16039
SEQUENCE:3
DTSTAMP:20260420T224707Z
URL:https://business.cmschamber.org/events/details/not-so-new-new-englanders-16039
END:VEVENT

END:VCALENDAR
