BEGIN:VCALENDAR
VERSION:2.0
PRODID:-//ChamberMaster//Event Calendar 2.0//EN
METHOD:PUBLISH
X-PUBLISHED-TTL:P3D
REFRESH-INTERVAL:P3D
CALSCALE:GREGORIAN
BEGIN:VEVENT
DTSTART:20231001T160000Z
DTEND:20231001T180000Z
X-MICROSOFT-CDO-ALLDAYEVENT:FALSE
SUMMARY:Notre Dame Academy Open House
DESCRIPTION:Join us for our Fall Open House on October 1st.    Register Here  \n\nAs you begin to consider what your junior high school and high school years might be like\, we encourage you to explore everything that our Academy has to offer.  NDA is an academically rigorous\, close-knit community that understands teenage girls and how they learn\, grow\, and thrive. Our students are gifted\, spirited\, and involved in all that they do. Our teachers\, experts in their disciplines and passionate about teaching\, guide and support students through every step of their journey here. We look forward to meeting you and getting to know you!  Please let us know how we can help you and your family embark on this exciting journey. If you have any questions about the admissions process\, please contact admissions@nda-worc.org or 508-757-6200\, Ext. 272.
X-ALT-DESC;FMTTYPE=text/html:<p>Join us for our Fall Open House on October 1st.&nbsp\; &nbsp\; Register <a href="https://www.nda-worc.org/admissions/events">Here </a>&nbsp\;<br />\nAs you begin to consider what your junior high school and high school years might be like\, we encourage you to explore everything that our Academy has to offer.&nbsp\; NDA is an academically rigorous\, close-knit community that understands teenage girls and how they learn\, grow\, and thrive. Our students are gifted\, spirited\, and involved in all that they do. Our teachers\, experts in their disciplines and passionate about teaching\, guide and support students through every step of their journey here. We look forward to meeting you and getting to know you!&nbsp\; Please let us know how we can help you and your family embark on this exciting journey. If you have any questions about the admissions process\, please contact&nbsp\;<a href="mailto:admissions@nda-worc.org" style="background-color: transparent\; box-sizing: border-box\; text-decoration-line: none\; color: rgb(87\, 87\, 87)\; transition: background 0.3s ease 0s\, color 0.3s ease 0s\; font-weight: 700\;">admissions@nda-worc.org</a>&nbsp\;or 508-757-6200\, Ext. 272.</p>\n
LOCATION:425 Salisbury Street Worcester MA 01609
UID:e.2083.16664
SEQUENCE:3
DTSTAMP:20260420T190752Z
URL:https://business.cmschamber.org/events/details/notre-dame-academy-open-house-10-01-2023-16664
END:VEVENT

END:VCALENDAR
