BEGIN:VCALENDAR
VERSION:2.0
PRODID:-//ChamberMaster//Event Calendar 2.0//EN
METHOD:PUBLISH
X-PUBLISHED-TTL:P3D
REFRESH-INTERVAL:P3D
CALSCALE:GREGORIAN
BEGIN:VEVENT
DTSTART:20211017T170000Z
DTEND:20211017T190000Z
X-MICROSOFT-CDO-ALLDAYEVENT:FALSE
SUMMARY:Notre Dame Academy Open House
DESCRIPTION:The Notre Dame Academy Fall Open House will be held on Sunday\,October 17th at 1:00pm. At this event prospective families will be able to:\n\n\n	Meet members of our Leadership team\, faculty\, and staff as well as current NDA families.\n	Tour our beautiful campus\n	Hear about our rigorous academic program and school culture.\n	Learn about our Admissions process and other opportunities to visit our campus and more!\n\n\nPlease register online. If you have any questions email Admissions@nda-worc.org.\n\nWe look forward to meeting you!
X-ALT-DESC;FMTTYPE=text/html:<div>The Notre Dame Academy Fall Open House will be held on&nbsp\;<strong>Sunday\,October 17th at 1:00pm</strong>. At this event prospective families will be able to:</div>\n\n<ul style="margin-left:10px">\n	<li>Meet members of our Leadership team\, faculty\, and staff as well as current NDA families.</li>\n	<li>Tour our beautiful campus</li>\n	<li>Hear about our rigorous academic program and school culture.</li>\n	<li>Learn about our Admissions process and other opportunities to visit our campus and more!</li>\n</ul>\n\n<p>Please register <a href="https://www.nda-worc.org/admissions/fallopenhouse">online</a>. If you have any questions email&nbsp\;<a href="mailto:admissions@nda-worc.org" style="box-sizing: border-box\; background-color: transparent\; text-decoration-line: none\; color: rgb(87\, 87\, 87)\; transition: background 0.3s ease 0s\, color 0.3s ease 0s\; font-weight: 700\;" target="_blank">Admissions@nda-worc.org.</a></p>\n\n<p>We look forward to meeting you!</p>\n
LOCATION:
UID:e.2083.13163
SEQUENCE:3
DTSTAMP:20260422T074935Z
URL:https://business.cmschamber.org/events/details/notre-dame-academy-open-house-13163
END:VEVENT

END:VCALENDAR
