BEGIN:VCALENDAR
VERSION:2.0
PRODID:-//ChamberMaster//Event Calendar 2.0//EN
METHOD:PUBLISH
X-PUBLISHED-TTL:P3D
REFRESH-INTERVAL:P3D
CALSCALE:GREGORIAN
BEGIN:VEVENT
DTSTART:20221012T200000Z
DTEND:20221012T220000Z
X-MICROSOFT-CDO-ALLDAYEVENT:FALSE
SUMMARY:Notre Dame du Lac Assisted Living Ribbon Cutting Ceremony
DESCRIPTION:Local government and community members are invited to celebrate the ribbon cutting of the Notre Dame du Lac Assisted Living's completed interior renovation.
X-ALT-DESC;FMTTYPE=text/html:Local government and community members are invited to celebrate the ribbon cutting of the Notre Dame du Lac Assisted Living&#39\;s completed interior renovation.
LOCATION:555 Plantation Street\, Worcester
UID:e.2083.14738
SEQUENCE:3
DTSTAMP:20260421T155437Z
URL:https://business.cmschamber.org/events/details/notre-dame-du-lac-assisted-living-ribbon-cutting-ceremony-14738
END:VEVENT

END:VCALENDAR
