BEGIN:VCALENDAR
VERSION:2.0
PRODID:-//ChamberMaster//Event Calendar 2.0//EN
METHOD:PUBLISH
X-PUBLISHED-TTL:P3D
REFRESH-INTERVAL:P3D
CALSCALE:GREGORIAN
BEGIN:VEVENT
DTSTART:20231013T113000Z
DTEND:20231013T133000Z
X-MICROSOFT-CDO-ALLDAYEVENT:FALSE
SUMMARY:Notre Dame Health Care Annual Fall Event - Celebration of Long Term Care & Rehabilitation Center's 30th Anniversary!
DESCRIPTION:We are beyond thrilled to be planning an "in-person" breakfast gathering on Friday\, October 13\, 2023 in celebration of the 30th Anniversary of our Long Term Care & Rehabilitation Center.  Please join us for what promises to be a truly memorable event as we gather to remember the past\, and "imagine" the future. Please join us! You can register online here. \n\n \n\nWe will honor the Sisters of Notre Dame de Namur for establishing Notre Dame Health Care Center and their leadership in the creation of our Long Term Care and Rehabilitation Center. We will remember David Putnam\, President of F.L. Putnam and a founding Board Member of Notre Dame Health Care. We will also honor Father Jonathan Slavinskas with our first Sister Jon Julie Sullivan Mission Award to recognize his many contributions to Notre Dame Health Care and the greater Worcester community in a way that embodies the spirit and creativity of the award's namesake\, the late Sister Jon Julie Sullivan.\n\n \n\nWe are excited to bring you a program that will share a bit about our history\; reflect on our work and why it is so important to those we serve\; and look ahead to our future. You can look forward to learning more about us and the ways you can support our mission. We will also bring back\, by popular demand\, our online auction with fun and interesting items for your bidding pleasure. Links to our online auction will be available a week ahead of the event on our event webpage here.\n\n\n\nProceeds for this event will support the mission and programs of Notre Dame Health Care. Our service offerings include assisted living\; skilled nursing for long term care and post-acute rehabilitation\; and adult and pediatric hospice and palliative care.\n\n\n\nWe are grateful for the extraordinary support of F.L. Putnam Investment Management Company and F.L. Putman Securities Company for their leadership support in this very special milestone year.
X-ALT-DESC;FMTTYPE=text/html:<p><span style="font-size:12px"><span style="font-family:arial\,helvetica\,sans-serif">We are beyond thrilled to be planning an &ldquo\;in-person&rdquo\; breakfast gathering on Friday\, October 13\, 2023 in celebration of the 30th Anniversary of our Long Term Care &amp\; Rehabilitation Center.&nbsp\; Please join us for what promises to be a truly memorable event as we gather to <em>remember the past\, and &ldquo\;imagine&rdquo\; the future</em>. Please join us! You can register online&nbsp\;<a href="https://interland3.donorperfect.net/weblink/WebLink.aspx?name=E186652&amp\;id=65">here</a>.&nbsp\;<br />\n&nbsp\;<br />\nWe will honor the Sisters of Notre Dame de Namur for establishing Notre Dame Health Care Center and their leadership in the creation of our Long Term Care and Rehabilitation Center. We will remember David Putnam\, President of F.L. Putnam and a founding Board Member of Notre Dame Health Care.&nbsp\;We will also honor Father Jonathan Slavinskas with our first <strong><em>Sister Jon Julie Sullivan Mission Award</em></strong> to recognize his many contributions to Notre Dame Health Care and the greater Worcester community in a way that embodies the spirit and creativity of the award&rsquo\;s namesake\, the late Sister Jon Julie Sullivan.<br />\n&nbsp\;<br />\nWe are excited to bring you a program that will share a bit about our history\; reflect on our work and why it is so important to those we serve\; and look ahead to our future. You can look forward to learning more about us and the ways you can support our mission. We will also bring back\, by popular demand\, our online auction with fun and interesting items for your bidding pleasure. Links to our online auction will be available a week ahead of the event on our event webpage <a href="https://www.notredamehealthcare.org/annual-event/2023/auction/">here</a>.<br />\n<br />\nProceeds for this event will support the mission and programs of Notre Dame Health Care. O<span style="color:#212120">ur service offerings include assisted living\; skilled nursing for long term care and post-acute rehabilitation\; and adult and pediatric hospice and palliative care.</span><br />\n<br />\n<span style="color:#212120">We are grateful for the extraordinary support of F.L. Putnam Investment Management Company and F.L. Putman Securities Company for their leadership support in this very special milestone year.&nbsp\;</span></span></span></p>\n
LOCATION:Hogan Center The College of the Holy Cross 1 College Street Worcester\, MA
UID:e.2083.15996
SEQUENCE:3
DTSTAMP:20260420T171511Z
URL:https://business.cmschamber.org/events/details/notre-dame-health-care-annual-fall-event-celebration-of-long-term-care-rehabilitation-center-s-30th-anniversary-15996
END:VEVENT

END:VCALENDAR
