BEGIN:VCALENDAR
VERSION:2.0
PRODID:-//ChamberMaster//Event Calendar 2.0//EN
METHOD:PUBLISH
X-PUBLISHED-TTL:P3D
REFRESH-INTERVAL:P3D
CALSCALE:GREGORIAN
BEGIN:VEVENT
DTSTART:20221019T220000Z
DTEND:20221019T233000Z
X-MICROSOFT-CDO-ALLDAYEVENT:FALSE
SUMMARY:Notre Dame Health Care's 2022 Annual Educational Forum featuring Kate Chadbourne
DESCRIPTION:Event is a fundraiser to support the mission of Notre Dame Health Care (to provide exceptional care to residents and patients\; assist family members struggling with the secondary effects of illness and disease\; and empower students and caregivers who rely on the Educational Bridge Center to access the support they need to increase their knowledge\, learning power and self sufficiency\, bridging the gap between where they are and where they want to be).\n\n\n\nFeatured speaker is Kate Chadbourne\, singer\, storyteller\, poet\, harper\, teacher and scholar.
X-ALT-DESC;FMTTYPE=text/html:<span style="font-family:arial\,helvetica\,sans-serif"><span style="color:rgb(79\, 79\, 79)">Event is a fundraiser to support the mission of Notre Dame Health Care (to provide exceptional care to residents and patients\; assist family members struggling with the secondary effects of illness and disease\; and empower students and caregivers who rely on the Educational Bridge Center to access the support they need to increase their knowledge\, learning power and self sufficiency\, bridging the gap between where they are and where they want to be).</span><br />\n<br />\n<span style="color:rgb(79\, 79\, 79)">Featured speaker is Kate Chadbourne\, singer\, storyteller\, poet\, harper\, teacher and scholar.</span></span>
LOCATION:Virtual Event\, link to view event will be shared on Notre Dame Health Care's Facebook page (@NotreDameHealthCare) and website (https://www.notredamehealthcare.org/annual-educational-forum/2022/)
UID:e.2083.13957
SEQUENCE:3
DTSTAMP:20260421T142632Z
URL:https://business.cmschamber.org/events/details/notre-dame-health-care-s-2022-annual-educational-forum-featuring-brian-o-donovan-13957
END:VEVENT

END:VCALENDAR
