BEGIN:VCALENDAR
VERSION:2.0
PRODID:-//ChamberMaster//Event Calendar 2.0//EN
METHOD:PUBLISH
X-PUBLISHED-TTL:P3D
REFRESH-INTERVAL:P3D
CALSCALE:GREGORIAN
BEGIN:VEVENT
DTSTART:20210316T170000Z
DTEND:20210316T180000Z
X-MICROSOFT-CDO-ALLDAYEVENT:FALSE
SUMMARY:Now is the time to Launch! Women Entrepreneurs virtual Panel
DESCRIPTION:You are invited!\n\nThe Center for Women and Enterprise and the Small Business Administration of Massachussets invite you to a Women Entrepreneurs virtual panel.\n\nJoin Daysi Meregildo and Samantha Pevear from CWE with several women entrepreneurs who will share about their entrepreneurial journey.\n\nLearn about best practices and join our client network of female entrepreneurs in MA.\n\n\n\nClick Here to Register.
X-ALT-DESC;FMTTYPE=text/html:<p style="text-align:left">You are invited!</p>\n\n<p style="text-align:left">The Center for Women and Enterprise and the Small Business Administration of Massachussets invite you to a Women Entrepreneurs virtual panel.</p>\n\n<p style="text-align:left">Join Daysi Meregildo and Samantha Pevear from CWE with several women entrepreneurs who will share about their entrepreneurial journey.</p>\n\n<p style="text-align:left">Learn about best practices and join our client network of female entrepreneurs in MA.<br />\n<br />\n<a href="https://cwewbc.ecenterdirect.com/events/976709">Click Here to Register.</a></p>\n
LOCATION:Online Webinar.
UID:e.2083.12709
SEQUENCE:3
DTSTAMP:20260422T175734Z
URL:https://business.cmschamber.org/events/details/now-is-the-time-to-launch-women-entrepreneurs-virtual-panel-12709
END:VEVENT

END:VCALENDAR
