BEGIN:VCALENDAR
VERSION:2.0
PRODID:-//ChamberMaster//Event Calendar 2.0//EN
METHOD:PUBLISH
X-PUBLISHED-TTL:P3D
REFRESH-INTERVAL:P3D
CALSCALE:GREGORIAN
BEGIN:VEVENT
DTSTART;VALUE=DATE:20231205
DTEND;VALUE=DATE:20231206
TRANSP:TRANSPARENT
X-MICROSOFT-CDO-ALLDAYEVENT:TRUE
SUMMARY:Nulife Behaviorl Health Openhouse
DESCRIPTION:With great pleasure\, we extend an invitation to you for the upcoming Open House event hosted by Nulife Behavioral Health Worcester. As advocates for mental health and substance abuse recovery\, we are excited to share our mission and our impact on the community.\n\n\n\nWhat to Expect:\n\n\n\nWe look forward to your presence at this important event as we work together to raise awareness\, reduce stigma\, and foster a community of support for mental health and substance abuse recovery.\n\n	State-of-the-Art Facility\n	Providing mental health and substance abuse counseling \n	No waitlist\n	Telehealth available \n	No judgment \n	Learn about T.M.S\n\n\n\nThank you for being so committed to promoting positive change in our community. To confirm your attendance\, RSVP by Dec. 1 at RSVP  to qchamabers@nulifebh.com or 508-203-6770 x110. \n\n\n\n* Continental Breakfast Will Be Served
X-ALT-DESC;FMTTYPE=text/html:<span style="font-size:12px"><span style="font-family:times new roman">With great pleasure\, we extend an invitation to you for the upcoming Open House event hosted by <strong>Nulife Behavioral Health Worcester</strong>. As advocates for mental health and substance abuse recovery\, we are excited to share our mission and our impact on the community.<br />\n<br />\nWhat to Expect:<br />\n<br />\nWe look forward to your presence at this important event as we work together to raise awareness\, reduce stigma\, and foster a community of support for mental health and substance abuse recovery.</span></span>\n<ul>\n	<li><span style="font-size:12px"><span style="font-family:times new roman"><strong>State-of-the-Art Facility</strong></span></span></li>\n	<li><span style="font-size:12px"><span style="font-family:times new roman"><strong>Providing mental health and substance abuse counseling </strong></span></span></li>\n	<li><span style="font-size:12px"><span style="font-family:times new roman"><strong>No waitlist</strong></span></span></li>\n	<li><span style="font-size:12px"><span style="font-family:times new roman"><strong>Telehealth available </strong></span></span></li>\n	<li><span style="font-size:12px"><span style="font-family:times new roman"><strong>No judgment </strong></span></span></li>\n	<li><span style="font-size:12px"><span style="font-family:times new roman"><strong>Learn about T.M.S</strong></span></span></li>\n</ul>\n<br />\n<span style="font-size:12px"><span style="font-family:times new roman">Thank you for being so committed to promoting positive change in our community. To confirm your attendance\, RSVP by Dec. 1 at RSVP&nbsp\; to qchamabers@nulifebh.com or 508-203-6770 x110.&nbsp\;<br />\n<br />\n* Continental Breakfast Will Be Served&nbsp\;</span></span><br />\n&nbsp\;
LOCATION:359 Main St. Worcester\, MA 01608
UID:e.2083.16857
SEQUENCE:3
DTSTAMP:20260420T154022Z
URL:https://business.cmschamber.org/events/details/nulife-behaviorl-health-openhouse-16857
END:VEVENT

END:VCALENDAR
