BEGIN:VCALENDAR
VERSION:2.0
PRODID:-//ChamberMaster//Event Calendar 2.0//EN
METHOD:PUBLISH
X-PUBLISHED-TTL:P3D
REFRESH-INTERVAL:P3D
CALSCALE:GREGORIAN
BEGIN:VEVENT
DTSTART:20211019T140000Z
DTEND:20211019T150000Z
X-MICROSOFT-CDO-ALLDAYEVENT:FALSE
SUMMARY:Offshore Wind Discussion
DESCRIPTION:Join the Worcester Regional Chamber of Commerce\, The Alliance for Business Leadership\, and MassCEC to discuss the economic benefits across all of Massachusetts with the increase of Offshore Wind. We will host a panel of experts to delve into both supply chain and workforce development and focus on central and western opportunities such as component manufacturing\, workforce training\, and diversity inclusion.
X-ALT-DESC;FMTTYPE=text/html:<span style="font-size:12.0pt\;font-family:&quot\;Calibri&quot\;\,sans-serif\;\nmso-fareast-font-family:Calibri\;mso-fareast-theme-font:minor-latin\;mso-ansi-language:\nEN-US\;mso-fareast-language:EN-US\;mso-bidi-language:AR-SA">Join the Worcester Regional Chamber of Commerce\, The Alliance for Business Leadership\, and MassCEC to discuss the economic benefits across all of Massachusetts with the increase of Offshore Wind. We will host a panel of experts to delve into both supply chain and workforce development&nbsp\;and focus on central and western opportunities such as component manufacturing\, workforce training\, and diversity&nbsp\;inclusion. </span>
LOCATION:ZOOM
UID:e.2083.13154
SEQUENCE:3
DTSTAMP:20260422T074748Z
URL:https://business.cmschamber.org/events/details/offshore-wind-discussion-13154
END:VEVENT

END:VCALENDAR
