BEGIN:VCALENDAR
VERSION:2.0
PRODID:-//ChamberMaster//Event Calendar 2.0//EN
METHOD:PUBLISH
X-PUBLISHED-TTL:P3D
REFRESH-INTERVAL:P3D
CALSCALE:GREGORIAN
BEGIN:VEVENT
DTSTART:20230929T213000Z
DTEND:20230930T010000Z
X-MICROSOFT-CDO-ALLDAYEVENT:FALSE
SUMMARY:Oktoberfest at the EcoTarium
DESCRIPTION:Oktoberfest at the EcoTarium\n\nDon't miss out on this unique fusion of science and Oktoberfest festivities! Embrace the spirit of fermentation and join us for Oktoberfest at the EcoTarium. Join us for an Oktoberfest like no other   a blend of science\, flavor\, and fun. Bring your friends and enjoy a selection of craft beer\, food\, and live German music.\n\nMusic provided by\n\nThe TubaFrau Hofbr u Band\n\nTickets\n\n$20 for Admission & 1 Dinner\n\n$10 for Admission\n\n$10 Tasting Ticket\n\nCash Bar\n\nEcoTarium members get a 10% discount on ticket options for admission and dinner only when purchasing online\n\nGet Tickets
X-ALT-DESC;FMTTYPE=text/html:<p><strong>Oktoberfest at the EcoTarium</strong></p>\n\n<p>Don&#39\;t miss out on this unique fusion of science and Oktoberfest festivities! Embrace the spirit of fermentation and join us for Oktoberfest at the EcoTarium. Join us for an Oktoberfest like no other &ndash\; a blend of science\, flavor\, and fun. Bring your friends and enjoy a selection of craft beer\, food\, and live German music.</p>\n\n<p><strong>Music provided by</strong><br />\nThe TubaFrau Hofbr&auml\;u Band</p>\n\n<p><strong>Tickets</strong><br />\n$20 for Admission &amp\; 1 Dinner<br />\n$10 for Admission<br />\n$10 Tasting Ticket<br />\nCash Bar</p>\n\n<p><em>EcoTarium members get a 10% discount on ticket options for admission and dinner only when purchasing online</em></p>\n\n<p><a class="fl-button" href="https://2573.blackbaudhosting.com/2573/tickets?tab=2&amp\;txobjid=98cd39a5-091d-4137-be34-2de89dd0efe9">Get Tickets</a></p>\n
LOCATION:222 Harrington Way\, Worcester\, MA 01604
UID:e.2083.16435
SEQUENCE:3
DTSTAMP:20260420T210407Z
URL:https://business.cmschamber.org/events/details/oktoberfest-at-the-ecotarium-09-29-2023-16435
END:VEVENT

END:VCALENDAR
