BEGIN:VCALENDAR
VERSION:2.0
PRODID:-//ChamberMaster//Event Calendar 2.0//EN
METHOD:PUBLISH
X-PUBLISHED-TTL:P3D
REFRESH-INTERVAL:P3D
CALSCALE:GREGORIAN
BEGIN:VEVENT
DTSTART:20221021T213000Z
DTEND:20221022T010000Z
X-MICROSOFT-CDO-ALLDAYEVENT:FALSE
SUMMARY:Oktoberfest at the EcoTarium
DESCRIPTION:Hoping to celebrate Oktoberfest one last time in 2022?\n\nCome join us at the EcoTarium on 10/21/22 for this fermentation celebration!\n\nEnjoy local craft beers and German food\, meet the Brewers\, learn about the science of fermentation and the fungus that is used to make beer\, and enjoy the happy sounds of the Schwartze Schafe German Band!\n\nwww.ecotarium.org/Oktoberfest
X-ALT-DESC;FMTTYPE=text/html:<div>Hoping to celebrate Oktoberfest one last time in 2022?<br />\nCome join us at the EcoTarium on 10/21/22 for this fermentation celebration!<br />\nEnjoy local craft beers and German food\, meet the Brewers\, learn about the science of fermentation and the fungus that is used to make beer\, and enjoy the happy sounds of the Schwartze Schafe German Band!</div>\n\n<div><span style="font-family:inherit"><a class="x1i10hfl xjbqb8w x6umtig x1b1mbwd xaqea5y xav7gou x9f619 x1ypdohk xt0psk2 xe8uvvx xdj266r x11i5rnm xat24cr x1mh8g0r xexx8yu x4uap5 x18d9i69 xkhd6sd x16tdsg8 x1hl2dhg xggy1nq x1a2a7pz xt0b8zv x1fey0fg" href="https://l.facebook.com/l.php?u=https%3A%2F%2Fwww.ecotarium.org%2FOktoberfest%3Ffbclid%3DIwAR1rJ-2DF5PzdQHvWY55i_8Lko4zHf6tQctPhNQ4vAPygWCyyP0m2MthQfU&amp\;h=AT0RhG2C9sL70Rm1ZAydntOlwWJhAyrr4QPXcJj8isOXvSYezIgZrjMmCpX9Wu00uvgbDYg-8a8JhutBmQdjZa8JFAiuGuHo7_5vNOf1bBT9a7TUxi6CGbnQesdqU2Ckx5lv&amp\;__tn__=-UK-R&amp\;c[0]=AT2EuptySTrFTFMMuIHIqKNrruozz5jzDvgTwWDt3sp6WeTxQ8nN5mceHeSTieL-Eoz9a6hgBhfwc-4HCYkLpFIPXn06DLBAOY0ciB-JETDXjKKnwPrDkbN5Yss9wRDYONqaSdI8DwnmBBRW62ba00VpB2MbSh1x80Lwhqjx_qxQ59ZGQa-cpKprEE2b2P3KGk3USACrfZ_L3w" rel="nofollow noopener" style="color: var(--blue-link)\; cursor: pointer\; text-decoration-line: none\; outline: none\; list-style: none\; border-width: 0px\; border-style: initial\; border-color: initial\; margin: 0px\; text-align: inherit\; padding: 0px\; -webkit-tap-highlight-color: transparent\; box-sizing: border-box\; touch-action: manipulation\; background-color: transparent\; display: inline\; font-family: inherit\;" tabindex="0" target="_blank">www.ecotarium.org/Oktoberfest</a></span></div>\n
LOCATION:
UID:e.2083.14793
SEQUENCE:3
DTSTAMP:20260421T142321Z
URL:https://business.cmschamber.org/events/details/oktoberfest-at-the-ecotarium-14793
END:VEVENT

END:VCALENDAR
