BEGIN:VCALENDAR
VERSION:2.0
PRODID:-//ChamberMaster//Event Calendar 2.0//EN
METHOD:PUBLISH
X-PUBLISHED-TTL:P3D
REFRESH-INTERVAL:P3D
CALSCALE:GREGORIAN
BEGIN:VEVENT
DTSTART:20191101T130000Z
DTEND:20191101T210000Z
X-MICROSOFT-CDO-ALLDAYEVENT:FALSE
SUMMARY:Open Consults - Business Strategy
DESCRIPTION:The first Friday of the month\, we will have free one-on-one consulting in Fitchburg\, MA\, thanks to our community partner at the North Central Massachusetts Chamber of Commerce. This time we are bringing back a consultant with a plethora of experience in general business to answer all of your questions! Whether you want help registering a business or drafting a business plan\, this is the perfect opportunity to get free one-on-one advice.
X-ALT-DESC;FMTTYPE=text/html:<span style="color:rgb(69\, 73\, 78)\; font-family:source sans pro\,arial\,helvetica\,sans-serif\; font-size:16.8px">The first Friday of the month\, we will have free one-on-one consulting in Fitchburg\, MA\, thanks to our community partner at t</span><span style="color:rgb(69\, 73\, 78)\; font-family:source sans pro\,arial\,helvetica\,sans-serif\; font-size:16.8px">he North Central Massachusetts Chamber of Commerce.&nbsp\;This time we are bringing back a consultant with a plethora of experience in general business to answer all of your questions! Whether you want help registering a business or drafting a business plan\, this is the perfect opportunity to get free one-on-one advice.</span>
LOCATION:North Central Massachusetts Chamber of Commerce 860 South Street Fitchburg\, MA 01420
UID:e.2083.10360
SEQUENCE:3
DTSTAMP:20260423T211321Z
URL:https://business.cmschamber.org/events/details/open-consults-business-strategy-10360
END:VEVENT

END:VCALENDAR
