BEGIN:VCALENDAR
VERSION:2.0
PRODID:-//ChamberMaster//Event Calendar 2.0//EN
METHOD:PUBLISH
X-PUBLISHED-TTL:P3D
REFRESH-INTERVAL:P3D
CALSCALE:GREGORIAN
BEGIN:VEVENT
DTSTART:20220503T190000Z
DTEND:20220503T200000Z
X-MICROSOFT-CDO-ALLDAYEVENT:FALSE
SUMMARY:Open for Business Lender Link-Up!
DESCRIPTION:Meet n' greet with RCAP's economic development team and other small business lenders at this virtual event! Attendees will get an overview of the Open for Business program and how it can benefit your small business and entrepreneurial clients! In addition\, you'll have the opportunity to ask questions and make valuable connections with other industry stakeholders!
X-ALT-DESC;FMTTYPE=text/html:Meet n&#39\; greet with RCAP&rsquo\;s economic development team and other small business lenders at this virtual event! Attendees will get an overview of the <a href="https://www.rcapsolutions.org/open-for-business/">Open for Business program</a> and how it can benefit your small business and entrepreneurial clients! In addition\, you&rsquo\;ll have the opportunity to ask questions and make valuable connections with other industry stakeholders!
LOCATION:Online
UID:e.2083.13872
SEQUENCE:3
DTSTAMP:20260421T231556Z
URL:https://business.cmschamber.org/events/details/open-for-business-lender-link-up-13872
END:VEVENT

END:VCALENDAR
