BEGIN:VCALENDAR
VERSION:2.0
PRODID:-//ChamberMaster//Event Calendar 2.0//EN
METHOD:PUBLISH
X-PUBLISHED-TTL:P3D
REFRESH-INTERVAL:P3D
CALSCALE:GREGORIAN
BEGIN:VEVENT
DTSTART:20230309T213000Z
DTEND:20230310T003000Z
X-MICROSOFT-CDO-ALLDAYEVENT:FALSE
SUMMARY:Open House at EA Medical Aesthetics - Live demos\, prizes\, samples\, food and fun!
DESCRIPTION:Join us for our first ever open house at EA Medical Aesthetics. All are welcome to join us for a fun filled evening where you will have the chance to network\, win prizes\, receive free product samples\, view live product demonstrations and meet with experts from the EA staff.  We will have music\, drinks and food and we hope to see you there.  Our Willy Wonka theme will ensure there is plenty of chocolate and a few golden tickets to sweeten the experience! \n\n\n\nRSVP here: https://www.eventbrite.com/e/open-house-at-ea-medical-aesthetics-samples-prizes-live-demos-and-fun-tickets-534543743727
X-ALT-DESC;FMTTYPE=text/html:<p><span style="font-family:arial\; font-size:11pt">Join us for our first ever open house at EA Medical Aesthetics. All are welcome to join us for a fun filled evening where you will have the chance to network\, win prizes\, receive free product samples\, view live product demonstrations and meet with experts from the EA staff.&nbsp\; We will have music\, drinks and food and we hope to see you there.&nbsp\; </span><span style="background-color:rgb(255\, 255\, 255)\; color:rgb(51\, 51\, 51)\; font-family:arial\; font-size:14.6667px">Our Willy Wonka theme will ensure there is plenty of chocolate and a few golden tickets to sweeten the experience!&nbsp\;<br />\n<br />\nRSVP here:&nbsp\;</span>https://www.eventbrite.com/e/open-house-at-ea-medical-aesthetics-samples-prizes-live-demos-and-fun-tickets-534543743727</p>\n\n<div>&nbsp\;</div>\n
LOCATION:EA Medical Aesthetics 17 Converse Street Worcester\, MA 01605 508-831-0400
UID:e.2083.15279
SEQUENCE:3
DTSTAMP:20260421T075013Z
URL:https://business.cmschamber.org/events/details/open-house-at-ea-medical-aesthetics-15279
END:VEVENT

END:VCALENDAR
