BEGIN:VCALENDAR
VERSION:2.0
PRODID:-//ChamberMaster//Event Calendar 2.0//EN
METHOD:PUBLISH
X-PUBLISHED-TTL:P3D
REFRESH-INTERVAL:P3D
CALSCALE:GREGORIAN
BEGIN:VEVENT
DTSTART:20211013T130000Z
DTEND:20211013T200000Z
X-MICROSOFT-CDO-ALLDAYEVENT:FALSE
SUMMARY:OPEN HOUSE/JOB FAIR FAIRLAWN REHAB HOSPITAL WORCESTER MA
DESCRIPTION:JOB FAIR/ OPEN HOUSE 10/13/21 FROM 9am-4pm AT FAIRLAWN REHABILITATION HOSPITAL\n\nWE ARE HIRING FOR RN's AND NURSING ASSISTANTS!
X-ALT-DESC;FMTTYPE=text/html:JOB FAIR/ OPEN HOUSE 10/13/21 FROM 9am-4pm AT FAIRLAWN REHABILITATION HOSPITAL<br />\nWE ARE HIRING FOR RN&#39\;s AND NURSING ASSISTANTS!&nbsp\;
LOCATION:189 MAY STREET WORCESTER\, MA 01502
UID:e.2083.13185
SEQUENCE:3
DTSTAMP:20260422T091738Z
URL:https://business.cmschamber.org/events/details/open-house-job-fair-fairlawn-rehab-hospital-worcester-ma-13185
END:VEVENT

END:VCALENDAR
