BEGIN:VCALENDAR
VERSION:2.0
PRODID:-//ChamberMaster//Event Calendar 2.0//EN
METHOD:PUBLISH
X-PUBLISHED-TTL:P3D
REFRESH-INTERVAL:P3D
CALSCALE:GREGORIAN
BEGIN:VEVENT
DTSTART:20231114T170000Z
DTEND:20231114T174500Z
X-MICROSOFT-CDO-ALLDAYEVENT:FALSE
SUMMARY:Orchestrating your DEI Committee Success
DESCRIPTION:Orchestrating your Diversity\, Equity\, and Inclusion (DEI) Committee Success\n\nAdriana is the CEO and Founder of Culture Redesigned.\n\nShe specializes in helping companies build winning teams that deliver on their goals. Rather than traditional consulting techniques\, her company uses Behavioral Science Data to align Human Capital with Business Results.\n\nAdriana is an experienced Human Resources leader\, her areas of expertise include employee engagement\, DEI driven organizational culture implementation\, change management\, and training and development.\n\n \n\nShe is a Senior Certified Professional by the Society of HR Management\, Certified Executive Coach\, Six Sigma Black Belt\, Certified PI Partner\, and member of the Delta Mu Delta Honor Society of International Business.
X-ALT-DESC;FMTTYPE=text/html:<p><strong>Orchestrating your Diversity\, Equity\, and Inclusion (DEI) Committee Success</strong></p>\n\n<p>Adriana is the CEO and Founder of Culture Redesigned.</p>\n\n<p>She specializes in helping companies build winning teams that deliver on their goals. Rather than traditional consulting techniques\, her company uses Behavioral Science Data to align Human Capital with Business Results.</p>\n\n<p>Adriana is an experienced Human Resources leader\, her areas of expertise include employee engagement\, DEI driven organizational culture implementation\, change management\, and training and development.</p>\n\n<p>&nbsp\;</p>\n\n<p>She is a Senior Certified Professional by the Society of HR Management\, Certified Executive Coach\, Six Sigma Black Belt\, Certified PI Partner\, and member of the Delta Mu Delta Honor Society of International Business.&nbsp\;</p>\n\n<p>&nbsp\;</p>\n
LOCATION:https://us02web.zoom.us/j/83793727589
UID:e.2083.16706
SEQUENCE:3
DTSTAMP:20260420T153947Z
URL:https://business.cmschamber.org/events/details/orchestrating-your-dei-committee-success-16706
END:VEVENT

END:VCALENDAR
