BEGIN:VCALENDAR
VERSION:2.0
PRODID:-//ChamberMaster//Event Calendar 2.0//EN
METHOD:PUBLISH
X-PUBLISHED-TTL:P3D
REFRESH-INTERVAL:P3D
CALSCALE:GREGORIAN
BEGIN:VEVENT
DTSTART:20240302T223000Z
DTEND:20240303T013000Z
X-MICROSOFT-CDO-ALLDAYEVENT:FALSE
SUMMARY:Our Bright Future Hollywood Gala
DESCRIPTION:Dear Supporters and Friends\,\n\nWe are thrilled to extend a heartfelt invitation to you for a night of elegance\, celebration\, and philanthropy at the Our Bright Future 3rd Annual Hollywood Gala\, taking place on March 2nd\, 2024\, at Assumption University. This glamorous event is not only a chance to revel in the glitz and glamour but\, more importantly\, an opportunity to make a lasting impact on the future of our community.\n\n\n\nJoin Us for a Night of Glamour at Our Bright Future 3rd Annual Hollywood Gala!
X-ALT-DESC;FMTTYPE=text/html:<span style="color:rgb(50\, 74\, 109)\; font-family:heebo\,sans-serif\; font-size:18px">Dear Supporters and Friends\,</span><br />\n<span style="color:rgb(50\, 74\, 109)\; font-family:heebo\,sans-serif\; font-size:18px">We are thrilled to extend a heartfelt invitation to you for a night of elegance\, celebration\, and philanthropy at the Our Bright Future 3rd Annual Hollywood Gala\, taking place on March 2nd\, 2024\, at Assumption University. This glamorous event is not only a chance to revel in the glitz and glamour but\, more importantly\, an opportunity to make a lasting impact on the future of our community.</span><br />\n<br />\n<span style="color:rgb(50\, 74\, 109)\; font-family:heebo\,sans-serif\; font-size:18px">Join Us for a Night of Glamour at Our Bright Future 3rd Annual Hollywood Gala!</span>
LOCATION:500 Salisbury St Worcester\, MA 01609
UID:e.2083.17256
SEQUENCE:3
DTSTAMP:20260420T084940Z
URL:https://business.cmschamber.org/events/details/our-bright-future-hollywood-gala-17256
END:VEVENT

END:VCALENDAR
