BEGIN:VCALENDAR
VERSION:2.0
PRODID:-//ChamberMaster//Event Calendar 2.0//EN
METHOD:PUBLISH
X-PUBLISHED-TTL:P3D
REFRESH-INTERVAL:P3D
CALSCALE:GREGORIAN
BEGIN:VEVENT
DTSTART:20240206T200000Z
DTEND:20240206T213000Z
X-MICROSOFT-CDO-ALLDAYEVENT:FALSE
SUMMARY:Out of Cash Workshop 2024
DESCRIPTION:Why You Can't Miss This Event:\n\n\n\nThis workshop is more than just a learning experience\; it's a chance to transform your financial approach and mindset. Understanding cashflow is crucial\, and I'm here to break it down for you in the most engaging and practical way.\n\n\n\n5 Cashflow Mistakes Entrepreneurs Must Avoid At All Costs\n\nTuesday Feb 6th @ 3pm EST or Thursday Feb 8th @ 12pm EST\n\n\n\nThis workshop is your stepping stone to a more financially robust and savvy business. Let's tackle those cashflow challenges together and turn them into opportunities for growth and success. Can't wait to see you there!
X-ALT-DESC;FMTTYPE=text/html:<span style="color:rgba(0\, 0\, 0\, 0.9)\; font-family:-apple-system\,system-ui\,blinkmacsystemfont\,segoe ui\,roboto\,helvetica neue\,fira sans\,ubuntu\,oxygen\,oxygen sans\,cantarell\,droid sans\,apple color emoji\,segoe ui emoji\,segoe ui emoji\,segoe ui symbol\,lucida grande\,helvetica\,arial\,sans-serif\; font-size:14px">Why You Can&#39\;t Miss This Event:</span><br />\n<br />\n<span style="color:rgba(0\, 0\, 0\, 0.9)\; font-family:-apple-system\,system-ui\,blinkmacsystemfont\,segoe ui\,roboto\,helvetica neue\,fira sans\,ubuntu\,oxygen\,oxygen sans\,cantarell\,droid sans\,apple color emoji\,segoe ui emoji\,segoe ui emoji\,segoe ui symbol\,lucida grande\,helvetica\,arial\,sans-serif\; font-size:14px">This workshop is more than just a learning experience\; it&#39\;s a chance to transform your financial approach and mindset. Understanding cashflow is crucial\, and I&rsquo\;m here to break it down for you in the most engaging and practical way.</span><br />\n<br />\n<span style="color:rgba(0\, 0\, 0\, 0.9)\; font-family:-apple-system\,system-ui\,blinkmacsystemfont\,segoe ui\,roboto\,helvetica neue\,fira sans\,ubuntu\,oxygen\,oxygen sans\,cantarell\,droid sans\,apple color emoji\,segoe ui emoji\,segoe ui emoji\,segoe ui symbol\,lucida grande\,helvetica\,arial\,sans-serif\; font-size:14px">5 Cashflow Mistakes Entrepreneurs Must Avoid At All Costs</span><br />\n<span style="color:rgba(0\, 0\, 0\, 0.9)\; font-family:-apple-system\,system-ui\,blinkmacsystemfont\,segoe ui\,roboto\,helvetica neue\,fira sans\,ubuntu\,oxygen\,oxygen sans\,cantarell\,droid sans\,apple color emoji\,segoe ui emoji\,segoe ui emoji\,segoe ui symbol\,lucida grande\,helvetica\,arial\,sans-serif\; font-size:14px">Tuesday Feb 6th @ 3pm EST or Thursday Feb 8th @ 12pm EST</span><br />\n<br />\n<span style="color:rgba(0\, 0\, 0\, 0.9)\; font-family:-apple-system\,system-ui\,blinkmacsystemfont\,segoe ui\,roboto\,helvetica neue\,fira sans\,ubuntu\,oxygen\,oxygen sans\,cantarell\,droid sans\,apple color emoji\,segoe ui emoji\,segoe ui emoji\,segoe ui symbol\,lucida grande\,helvetica\,arial\,sans-serif\; font-size:14px">This workshop is your stepping stone to a more financially robust and savvy business. Let&#39\;s tackle those cashflow challenges together and turn them into opportunities for growth and success. Can&#39\;t wait to see you there!</span>
LOCATION:Live via Zoom
UID:e.2083.17237
SEQUENCE:3
DTSTAMP:20260420T102804Z
URL:https://business.cmschamber.org/events/details/out-of-cash-workshop-2024-17237
END:VEVENT

END:VCALENDAR
