BEGIN:VCALENDAR
VERSION:2.0
PRODID:-//ChamberMaster//Event Calendar 2.0//EN
METHOD:PUBLISH
X-PUBLISHED-TTL:P3D
REFRESH-INTERVAL:P3D
CALSCALE:GREGORIAN
BEGIN:VEVENT
DTSTART:20220222T200000Z
DTEND:20220222T210000Z
X-MICROSOFT-CDO-ALLDAYEVENT:FALSE
SUMMARY:Peak Productivity (3T@3 Webcast Series)
DESCRIPTION:We all have our jobs to do. We want to do well. We want to succeed. We want and need to be productive. \n\nWhile "hacks" are trendy\, productivity is boosted when we understand how to best use the tools we have.\n\nIn our February 3T@3 Webcast\, Cumulus Global CEO Allen Falcon takes a look at features and tools that can save you steps\, simplify your day\, and boost your productivity. Whether you run Microsoft 365 or Google Workspace\, learn how to get more done\, more efficiently.\n\nPlease register and join us\, and bring your questions\, for this informative session.\n\nIf you register and cannot attend\, we will send you a link to view the recording on-demand.
X-ALT-DESC;FMTTYPE=text/html:<p><span style="background-color:transparent\; color:rgb(0\, 0\, 0)\; font-family:arial\; font-size:11pt">We all have our jobs to do. We want to do well. We want to succeed. We want and need to be productive.&nbsp\;</span></p>\n\n<p><strong>While &ldquo\;hacks&rdquo\; are trendy\, productivity is boosted when we understand how to best use the tools we have.</strong></p>\n\n<p><span style="background-color:transparent\; color:rgb(0\, 0\, 0)\; font-family:arial\; font-size:11pt">In our February </span><em>3T@3 Webcast</em><span style="background-color:transparent\; color:rgb(0\, 0\, 0)\; font-family:arial\; font-size:11pt">\, Cumulus Global CEO Allen Falcon takes a look at features and tools that can save you steps\, simplify your day\, and boost your productivity. Whether you run Microsoft 365 or Google Workspace\, learn how to get more done\, more efficiently.</span></p>\n\n<p><strong><u><a href="https://pages.cumulusglobal.com/3t3-webcast-series" style="box-sizing: border-box\; color: rgb(91\, 125\, 127)\; text-decoration-line: none\; line-height: inherit\; transition: all 0.3s ease-in-out 0s\; outline: none\; background-color: transparent\; overflow-wrap: break-word\;" target="_blank">Please register and join us</a></u></strong>\, and bring your questions\, for this informative session.</p>\n\n<p><em>If you register and cannot attend\, we will send you a link to view the recording on-demand.</em></p>\n
LOCATION:
UID:e.2083.13804
SEQUENCE:3
DTSTAMP:20260422T021611Z
URL:https://business.cmschamber.org/events/details/peak-productivity-3t-3-webcast-series-13804
END:VEVENT

END:VCALENDAR
