BEGIN:VCALENDAR
VERSION:2.0
PRODID:-//ChamberMaster//Event Calendar 2.0//EN
METHOD:PUBLISH
X-PUBLISHED-TTL:P3D
REFRESH-INTERVAL:P3D
CALSCALE:GREGORIAN
BEGIN:VEVENT
DTSTART:20230401T150000Z
DTEND:20230401T190000Z
X-MICROSOFT-CDO-ALLDAYEVENT:FALSE
SUMMARY:Permanent Jewelry Party
DESCRIPTION:Join us and Vibrant Beauty for our permanent jewelry party in shop.  Permanent jewelry is jewelry that you can't take off. Rather than closing a bracelet or necklace with a traditional clasp\, Mercedes will weld the two ends together. The whole process is painless and only takes a few minutes.  We will have bracelets and anklets for your choosing and charms.  Shop with Michelle and take advantage of the hottest trend when it comes to permanent jewelry.  Invite your mom\, sister\, cousin and besties to this event.
X-ALT-DESC;FMTTYPE=text/html:<ul>\n	<li>\n	<div>Join us and Vibrant Beauty for our permanent jewelry party in shop.&nbsp\; Permanent jewelry is jewelry that you can&rsquo\;t take off. Rather than closing a bracelet or necklace with a traditional clasp\, Mercedes will weld the two ends together. The whole process is painless and only takes a few minutes.&nbsp\; We will have bracelets and anklets for your choosing and charms.&nbsp\; Shop with Michelle and take advantage of the hottest trend when it comes to permanent jewelry.&nbsp\; Invite your mom\, sister\, cousin and besties to this event.&nbsp\;&nbsp\;</div>\n	</li>\n</ul>\n<br />\n&nbsp\;
LOCATION:Urban Chic Fashion Boutique 482 Southbridge Street Auburn\, MA 01501
UID:e.2083.15509
SEQUENCE:3
DTSTAMP:20260421T042155Z
URL:https://business.cmschamber.org/events/details/permanent-jewelry-party-15509
END:VEVENT

END:VCALENDAR
