BEGIN:VCALENDAR
VERSION:2.0
PRODID:-//ChamberMaster//Event Calendar 2.0//EN
METHOD:PUBLISH
X-PUBLISHED-TTL:P3D
REFRESH-INTERVAL:P3D
CALSCALE:GREGORIAN
BEGIN:VEVENT
DTSTART:20240321T230000Z
DTEND:20240322T010000Z
X-MICROSOFT-CDO-ALLDAYEVENT:FALSE
SUMMARY:Persian New Year Celebration
DESCRIPTION:Join us at our coffee shop in Worcester\, MA (owned and operated by a young Iranian-American)\, on March 21st from 7 pm to 9 pm for a vibrant celebration of Persian New Year! Immerse yourself in the festive atmosphere with a live musical performance by Nima Janmohammadi\, delectable sweets made by Mazeh with Nilou\, aromatic chai\, a beautiful "sofreh" set up\, and engaging art activities. It's a perfect opportunity to celebrate the holiday with your loved ones and embrace the rich cultural traditions of Persian New Year. Ensure you don't miss out on the festivities grab your tickets before they're gone! Get ready for an evening filled with joy\, music\, and the spirit of Nowruz! With your ticket comes a free cup of "chai" or traditional Persian Cardamom Tea and Saffron Sugar as well as a bag of various sweets baked fresh by @mazehwithnilou. Order and Enjoy food from the coffee shop as well -- see menu attached.
X-ALT-DESC;FMTTYPE=text/html:<span style="color:rgb(5\, 5\, 5)\; font-size:15px">Join us at our coffee shop in Worcester\, MA (owned and operated by a young Iranian-American)\, on March 21st from 7 pm to 9 pm for a vibrant celebration of Persian New Year! Immerse yourself in the festive atmosphere with a live musical performance by Nima Janmohammadi\, delectable sweets made by Mazeh with Nilou\, aromatic chai\, a beautiful &quot\;sofreh&quot\; set up\, and engaging art activities. It&#39\;s a perfect opportunity to celebrate the holiday with your loved ones and embrace the rich cultural traditions of Persian New Year. Ensure you don&#39\;t miss out on the festivities&mdash\;grab your tickets before they&#39\;re gone! Get ready for an evening filled with joy\, music\, and the spirit of Nowruz! With your ticket comes a free cup of &quot\;chai&quot\; or traditional Persian Cardamom Tea and Saffron Sugar as well as a bag of various sweets baked fresh by @mazehwithnilou. Order and Enjoy food from the coffee shop as well -- see menu attached.</span>
LOCATION:Fuel America Coffee House 100 Grove Street Suite B7 Worcester\, MA 01605
UID:e.2083.17312
SEQUENCE:3
DTSTAMP:20260422T082919Z
URL:https://business.cmschamber.org/events/details/persian-new-year-celebration-17312
END:VEVENT

END:VCALENDAR
