BEGIN:VCALENDAR
VERSION:2.0
PRODID:-//ChamberMaster//Event Calendar 2.0//EN
METHOD:PUBLISH
X-PUBLISHED-TTL:P3D
REFRESH-INTERVAL:P3D
CALSCALE:GREGORIAN
BEGIN:VEVENT
DTSTART:20220719T160000Z
DTEND:20220719T170000Z
X-MICROSOFT-CDO-ALLDAYEVENT:FALSE
SUMMARY:Personal Finance for Business Owners Series - Part 1
DESCRIPTION:In this series we will talk about 3 main aspects: money management\, the 2S's (spending & saving) & investing for the future. We will talk about how to better manage your personal finances currently while also thinking about your future as an entrepreneur.  This series will be highly interactive and designed to help you gain financial clarity\, save more\, spend less of what isn't serving you & invest intentionally. After attending this series you will have a better understanding how to manage & balance your personal finances while growing your business & also working on your business finances.\n\nIn this session we will talk all things financial SMART goal related & have a budgeting overview!
X-ALT-DESC;FMTTYPE=text/html:<p>In this series we will talk about 3 main aspects: money management\, the 2S&rsquo\;s (spending &amp\; saving) &amp\; investing for the future. We will talk about how to better manage your personal finances currently while also thinking about your future as an entrepreneur.&nbsp\; This series will be highly interactive and designed to help you gain financial clarity\, save more\, spend less of what isn&rsquo\;t serving you &amp\; invest intentionally. After attending this series you will have a better understanding how to manage &amp\; balance your personal finances while growing your business &amp\; also working on your business finances.</p>\n\n<p>In this session we will talk all things financial SMART goal related &amp\; have a budgeting overview!</p>\n
LOCATION:Zoom.
UID:e.2083.13982
SEQUENCE:3
DTSTAMP:20260421T185418Z
URL:https://business.cmschamber.org/events/details/personal-finance-for-business-owners-series-part-1-13982
END:VEVENT

END:VCALENDAR
