BEGIN:VCALENDAR
VERSION:2.0
PRODID:-//ChamberMaster//Event Calendar 2.0//EN
METHOD:PUBLISH
X-PUBLISHED-TTL:P3D
REFRESH-INTERVAL:P3D
CALSCALE:GREGORIAN
BEGIN:VEVENT
DTSTART:20220424T160000Z
DTEND:20220424T190000Z
X-MICROSOFT-CDO-ALLDAYEVENT:FALSE
SUMMARY:Plant Swap! Free event located at The Burncoat Center for Arts and Wellness-April 24th 12-3pm
DESCRIPTION:Calling all plant lovers! Join us Sunday April 24h from 12-3pm for our FREE plant swap!\n\nHere's how it will work:\n\nBring whatever you would like to swap! This can be whole plants (indoor/outdoor)\, cuttings\, propagations\, shoots\, seedlings\, or seeds.\n\nYou then get to trade 1 for 1. We will have tables and chairs set up. This event is free for all\, and a fun way to meet your neighbors\, bring home some new plants\, and hopefully pick your neighbor's brains about their plant knowledge!\n\n \n\nIf you have any items related to seed starting\, planting\, or cuttings / propagations\, etc. you would like to give for FREE\, we will also have a FREE table set up. Maybe you have a zillion tiny starter pots you don't need\, or your spider plant is out of control and you just want some shoots to go to a good home\, bring them! Anything related to plants or gardening is welcome. This way\, newbies who don't have anything to trade can come join the fun!\n\n \n\nWe will also have some of our amazing plant and plant related vendors here selling some gorgeous plants\, planting accessories\, pots\, hanging planters\, moss poles\, etc. as well. You will not leave empty handed!
X-ALT-DESC;FMTTYPE=text/html:<p>Calling all plant lovers! Join us Sunday April 24h from 12-3pm for our FREE plant swap!</p>\n\n<p>Here&#39\;s how it will work:</p>\n\n<p>Bring whatever you would like to swap! This can be whole plants (indoor/outdoor)\, cuttings\, propagations\, shoots\, seedlings\, or seeds.</p>\n\n<p>You then get to trade 1 for 1. We will have tables and chairs set up. This event is free for all\, and a fun way to meet your neighbors\, bring home some new plants\, and hopefully pick your neighbor&#39\;s brains about their plant knowledge!</p>\n\n<p>&nbsp\;</p>\n\n<p>If you have any items related to seed starting\, planting\, or cuttings / propagations\, etc. you would like to give for FREE\, we will also have a FREE table set up. Maybe you have a zillion tiny starter pots you don&#39\;t need\, or your spider plant is out of control and you just want some shoots to go to a good home\, bring them! Anything related to plants or gardening is welcome. This way\, newbies who don&#39\;t have anything to trade can come join the fun!</p>\n\n<p>&nbsp\;</p>\n\n<p>We will also have some of our amazing plant and plant related vendors here selling some gorgeous plants\, planting accessories\, pots\, hanging planters\, moss poles\, etc. as well. You will not leave empty handed!</p>\n
LOCATION:Burncoat Center for Arts and Wellness 78 Burncoat St Worcester\, MA 01605
UID:e.2083.13895
SEQUENCE:3
DTSTAMP:20260421T232130Z
URL:https://business.cmschamber.org/events/details/plant-swap-free-event-located-at-the-burncoat-center-for-arts-and-wellness-april-24th-12-3pm-13895
END:VEVENT

END:VCALENDAR
