BEGIN:VCALENDAR
VERSION:2.0
PRODID:-//ChamberMaster//Event Calendar 2.0//EN
METHOD:PUBLISH
X-PUBLISHED-TTL:P3D
REFRESH-INTERVAL:P3D
CALSCALE:GREGORIAN
BEGIN:VEVENT
DTSTART;VALUE=DATE:20230510
DTEND;VALUE=DATE:20230521
TRANSP:TRANSPARENT
X-MICROSOFT-CDO-ALLDAYEVENT:TRUE
SUMMARY:Plantapalooza Plant Sale
DESCRIPTION:Community Harvest Project Plantapalooza Plant Sale opens May 10\, 2023  Online orders start May 10 at 8 AM for CHP Monthly Givers\, and on May 11 for the rest of the public. Plant pickup will be at the CHP Farm on 37 Wheeler Road\, North Grafton on May 19 and 20. Plantapalooza will have heirloom vegetable varieties of tomatoes\, peppers\, squashes\, herbs\, annual flowers\, berry bushes\, and more. To become a Monthly Giver and get early access to Plantapalooza online ordering on May 10\, visit the CHP website at www.community-harvest.org/events and sign up prior to April 30\, 2023\nCommunity Harvest farms produced 323\,375 pounds of fresh fruits and vegetables in 2022 which were distributed to food banks\, local food pantries\, medical meal prep programs\, and other emergency food relief agencies throughout eastern and central Massachusetts. Proceeds from Plantapalooza support CHP's mission to engage and educate volunteers to grow fresh fruits and vegetables for hunger relief.
X-ALT-DESC;FMTTYPE=text/html:<big>Community Harvest Project <a href="https://www.facebook.com/events/182440454610902?acontext=%7B%22event_action_history%22%3A[%7B%22surface%22%3A%22page%22%7D]%7D">Plantapalooza Plant Sale</a> opens May 10\, 2023 <span style="background-color:transparent\; color:rgb(0\, 0\, 0)\; font-family:arial\; font-size:11pt">&nbsp\;Online orders start May 10 at 8 AM for CHP </span><a href="https://connect.clickandpledge.com/w/Form/c6475d3e-bcf3-40ad-baf0-49b8d3b4f5d1" style="text-decoration-line: none\;"><span style="background-color:transparent\; color:rgb(17\, 85\, 204)\; font-family:arial\; font-size:11pt">Monthly Givers</span></a><span style="background-color:transparent\; color:rgb(0\, 0\, 0)\; font-family:arial\; font-size:11pt">\, and on May 11 for the rest of the public. Plant pickup will be at the CHP Farm on 37 Wheeler Road\, North Grafton on May 19 and 20. Plantapalooza will have heirloom vegetable varieties of </span></big><span style="color:rgb(34\, 34\, 34)\; font-family:arial\; font-size:11pt">tomatoes\, peppers\, squashes\, herbs\, annual flowers\, berry bushes\, and more.&nbsp\;</span><span style="background-color:transparent\; color:rgb(0\, 0\, 0)\; font-family:arial\; font-size:11pt">To become a Monthly Giver and get early access to Plantapalooza online ordering on May 10\, visit the CHP website at </span><a href="http://www.community-harvest.org/events" style="text-decoration-line: none\;"><span style="background-color:transparent\; color:rgb(17\, 85\, 204)\; font-family:arial\; font-size:11pt">www.community-harvest.org/events</span></a><span style="background-color:transparent\; color:rgb(0\, 0\, 0)\; font-family:arial\; font-size:11pt"> and sign up prior to April 30\, 2023</span>\n<p><span style="background-color:transparent\; color:rgb(0\, 0\, 0)\; font-family:arial\; font-size:11pt">Community Harvest farms produced 323\,375 pounds of fresh fruits and vegetables in 2022 which were distributed to food banks\, local food pantries\, medical meal prep programs\, and other emergency food relief agencies throughout eastern and central Massachusetts. Proceeds from Plantapalooza support CHP&rsquo\;s mission to engage and educate volunteers to grow fresh fruits and vegetables for hunger relief.</span></p>\n
LOCATION:Order your plants online and pick up your plants onsite at the Community Harvest Project farm at 37 Wheeler Road North Grafton\, MA
UID:e.2083.15924
SEQUENCE:3
DTSTAMP:20260421T024603Z
URL:https://business.cmschamber.org/events/details/plantapalooza-plant-sale-15924
END:VEVENT

END:VCALENDAR
