BEGIN:VCALENDAR
VERSION:2.0
PRODID:-//ChamberMaster//Event Calendar 2.0//EN
METHOD:PUBLISH
X-PUBLISHED-TTL:P3D
REFRESH-INTERVAL:P3D
CALSCALE:GREGORIAN
BEGIN:VEVENT
DTSTART:20231015T160000Z
DTEND:20231015T210000Z
X-MICROSOFT-CDO-ALLDAYEVENT:FALSE
SUMMARY:Pleasant Valley Country Club Bridal Show
DESCRIPTION:Pleasant Valley Country Club will be hosting a bridal show on Sunday October 15\, 2023 from 12pm-5pm to showcase our beautiful new renovated Grand View Ballroom\, Bridal Suite\, all our function spaces and gorgeous outdoor ceremony area.  This event is complimentary\, open to the public with no registration needed. There will be many local vendors that would love to help with all your wedding needs and plans.
X-ALT-DESC;FMTTYPE=text/html:Pleasant Valley Country Club will be hosting a bridal show on Sunday October 15\, 2023 from 12pm-5pm to showcase our beautiful new renovated Grand View Ballroom\, Bridal Suite\, all our function spaces and gorgeous outdoor ceremony area.&nbsp\; This event is complimentary\, open to the public with no registration needed. There will be many local vendors that would love to help with all your wedding needs and plans.&nbsp\;&nbsp\;
LOCATION:Pleasant Valley Country Club 95 Armsby Road Sutton\, MA 01590 Grand View Ballroom 12:00pm - 5:00pm
UID:e.2083.16443
SEQUENCE:3
DTSTAMP:20260420T171345Z
URL:https://business.cmschamber.org/events/details/pleasant-valley-country-club-bridal-show-16443
END:VEVENT

END:VCALENDAR
