BEGIN:VCALENDAR
VERSION:2.0
PRODID:-//ChamberMaster//Event Calendar 2.0//EN
METHOD:PUBLISH
X-PUBLISHED-TTL:P3D
REFRESH-INTERVAL:P3D
CALSCALE:GREGORIAN
BEGIN:VEVENT
DTSTART:20210203T180000Z
DTEND:20210203T203000Z
X-MICROSOFT-CDO-ALLDAYEVENT:FALSE
SUMMARY:Pom Pom Scarf
DESCRIPTION:Pom Pom Scarf This program will be held indoors in one of our well-ventilated classrooms. Group size will not exceed current state restrictions. Wednesday\, February 3\, 2021 1:00-3:30 PM Instructor: Suzanne Hauerstein Max Participants: 10 Inspired by Tower Hill's Yarnstorm exhibit adult students will use pom pom makers and yarn to craft a fun pom pom scarf. No pom pom making experience necessary! We'll show you how to make the pom poms and how to connect them together to make your own special scarf. Multicolored or neutral colored your scarf will be a wearable work of art! All materials will be provided. Suzanne Hauerstein is a professional teaching artist and the Coordinator of Volunteer & Intern Services at Tower Hill. She has over 25 years of experience designing and facilitating art-based programs for informal learning environments. Suzanne is committed to creating programs that are accessible\, positive\, and enjoyable learning experiences for students of all ages and abilities. Single class scheduled on 2/3/2021 at 1:00PM
X-ALT-DESC;FMTTYPE=text/html:Pom Pom Scarf This program will be held indoors in one of our well-ventilated classrooms. Group size will not exceed current state restrictions. Wednesday\, February 3\, 2021 1:00-3:30 PM Instructor: Suzanne Hauerstein Max Participants: 10 Inspired by Tower Hill&#39\;s Yarnstorm exhibit adult students will use pom pom makers and yarn to craft a fun pom pom scarf. No pom pom making experience necessary! We&#39\;ll show you how to make the pom poms and how to connect them together to make your own special scarf. Multicolored or neutral colored your scarf will be a wearable work of art! All materials will be provided. Suzanne Hauerstein is a professional teaching artist and the Coordinator of Volunteer &amp\; Intern Services at Tower Hill. She has over 25 years of experience designing and facilitating art-based programs for informal learning environments. Suzanne is committed to creating programs that are accessible\, positive\, and enjoyable learning experiences for students of all ages and abilities. Single class scheduled on 2/3/2021 at 1:00PM
LOCATION:Tower Hill Botanic Garden 11 French Drive Boylston
UID:e.2083.12477
SEQUENCE:3
DTSTAMP:20260422T192309Z
URL:https://business.cmschamber.org/events/details/pom-pom-scarf-12477
END:VEVENT

END:VCALENDAR
