BEGIN:VCALENDAR
VERSION:2.0
PRODID:-//ChamberMaster//Event Calendar 2.0//EN
METHOD:PUBLISH
X-PUBLISHED-TTL:P3D
REFRESH-INTERVAL:P3D
CALSCALE:GREGORIAN
BEGIN:VEVENT
DTSTART:20210102T143000Z
DTEND:20210102T154500Z
X-MICROSOFT-CDO-ALLDAYEVENT:FALSE
SUMMARY:Pop Up Yoga: Yin Yoga for the New Year
DESCRIPTION:Pop Up Yoga: Yin Yoga for the New Year This program will be held indoors in one of our well-ventilated classrooms. Group size will not exceed current state restrictions. Saturday\, January 02\, 2021\, 9:30- 10:45 AM Instructor: Mandi Garrison Welcome in the new year and nourish your body and mind with a relaxing yin yoga session and botanical views. Yin yoga involves deep stretching on the floor with gentle poses typically held for 3-5 minutes. The muscular relaxation involved in a yin practice helps to target joints\, fascia\, and connective tissue\; it is wonderful for circulation\, flexibility\, balance\, and reducing stress. The practice may include some gentle warm-ups\, as well as centering and guided relaxation. Single class scheduled on 1/2/2021 at 9:30AM
X-ALT-DESC;FMTTYPE=text/html:Pop Up Yoga: Yin Yoga for the New Year This program will be held indoors in one of our well-ventilated classrooms. Group size will not exceed current state restrictions. Saturday\, January 02\, 2021\, 9:30- 10:45 AM Instructor: Mandi Garrison Welcome in the new year and nourish your body and mind with a relaxing yin yoga session and botanical views. Yin yoga involves deep stretching on the floor with gentle poses typically held for 3-5 minutes. The muscular relaxation involved in a yin practice helps to target joints\, fascia\, and connective tissue\; it is wonderful for circulation\, flexibility\, balance\, and reducing stress. The practice may include some gentle warm-ups\, as well as centering and guided relaxation. Single class scheduled on 1/2/2021 at 9:30AM
LOCATION:Tower Hill Botanic Garden 11 French Drive Boylston
UID:e.2083.12446
SEQUENCE:3
DTSTAMP:20260422T225239Z
URL:https://business.cmschamber.org/events/details/pop-up-yoga-yin-yoga-for-the-new-year-12446
END:VEVENT

END:VCALENDAR
