BEGIN:VCALENDAR
VERSION:2.0
PRODID:-//ChamberMaster//Event Calendar 2.0//EN
METHOD:PUBLISH
X-PUBLISHED-TTL:P3D
REFRESH-INTERVAL:P3D
CALSCALE:GREGORIAN
BEGIN:VEVENT
DTSTART:20230430T180000Z
DTEND:20230430T210000Z
X-MICROSOFT-CDO-ALLDAYEVENT:FALSE
SUMMARY:Positively Suzanne Princess Tea Party
DESCRIPTION:Calling all princesses aged 12 and under for an afternoon of fun. Come dressed in your gowns and tiaras and sip tea\, eat cake and have fun!\n\n\n\nThe Life Garden Cafe is designed with an air of whimsy\, this event is for young ladies aged 12 and under who enjoys dressing up and hanging with other princesses their own age. There will be great food\, fun activities and an atmosphere of sisterhood. Parents drop the kids off at 2:00 PM and pick them up at 5:00 PM
X-ALT-DESC;FMTTYPE=text/html:Calling all princesses aged 12 and under for an afternoon of fun. Come dressed in your gowns and tiaras and sip tea\, eat cake and have fun!<br />\n<br />\nThe Life Garden Cafe is designed with an air of whimsy\, this event is for young ladies aged 12 and under who enjoys dressing up and hanging with other princesses their own age. There will be great food\, fun activities and an atmosphere of sisterhood. Parents drop the kids off at 2:00 PM and pick them up at 5:00 PM
LOCATION:Life Garden Cafe 1048 main Street Worcester\, MA 01608
UID:e.2083.15471
SEQUENCE:3
DTSTAMP:20260421T042519Z
URL:https://business.cmschamber.org/events/details/positively-suzanne-princess-tea-party-15471
END:VEVENT

END:VCALENDAR
