BEGIN:VCALENDAR
VERSION:2.0
PRODID:-//ChamberMaster//Event Calendar 2.0//EN
METHOD:PUBLISH
X-PUBLISHED-TTL:P3D
REFRESH-INTERVAL:P3D
CALSCALE:GREGORIAN
BEGIN:VEVENT
DTSTART:20231209T230000Z
DTEND:20231210T040000Z
X-MICROSOFT-CDO-ALLDAYEVENT:FALSE
SUMMARY:Positively Suzanne Royal Holiday Ball
DESCRIPTION:Our first Royal Holiday Ball was a smashing success and this year we are back for what is now our annual Royal Holiday Ball\, and we are excited to welcome you. So get dressed up\, come to a fabulous space and hang with other fabulous people as they eat\, sip and dance the night away under fabulous decor.
X-ALT-DESC;FMTTYPE=text/html:Our first Royal Holiday Ball was a smashing success and this year we are back for what is now our annual Royal Holiday Ball\, and we are excited to welcome you. So get dressed up\, come to a fabulous space and hang with other fabulous people as they eat\, sip and dance the night away under fabulous decor.
LOCATION:AC Hotels Marriot 124 Front Street Worcester\, MA 01608
UID:e.2083.16446
SEQUENCE:3
DTSTAMP:20260420T154419Z
URL:https://business.cmschamber.org/events/details/positively-suzanne-royal-holiday-ball-12-09-2023-16446
END:VEVENT

END:VCALENDAR
