BEGIN:VCALENDAR
VERSION:2.0
PRODID:-//ChamberMaster//Event Calendar 2.0//EN
METHOD:PUBLISH
X-PUBLISHED-TTL:P3D
REFRESH-INTERVAL:P3D
CALSCALE:GREGORIAN
BEGIN:VEVENT
DTSTART:20221217T230000Z
DTEND:20221218T040000Z
X-MICROSOFT-CDO-ALLDAYEVENT:FALSE
SUMMARY:Positively Suzanne Royal Holiday Ball
DESCRIPTION:Looking for an evening where you can dress up\, enjoy fabulous food\, dance to music and celebrate with friends and loved ones. Look no further\, grab your tickets to Positively Suzanne Royal Holiday Ball
X-ALT-DESC;FMTTYPE=text/html:Looking for an evening where you can dress up\, enjoy fabulous food\, dance to music and celebrate with friends and loved ones. Look no further\, grab your tickets to Positively Suzanne Royal Holiday Ball
LOCATION:Hilton Garden Inn 35 Major Taylor BLVD Worcester\, MA \, 01608
UID:e.2083.14800
SEQUENCE:3
DTSTAMP:20260421T111414Z
URL:https://business.cmschamber.org/events/details/positively-suzanne-royal-holiday-ball-14800
END:VEVENT

END:VCALENDAR
