BEGIN:VCALENDAR
VERSION:2.0
PRODID:-//ChamberMaster//Event Calendar 2.0//EN
METHOD:PUBLISH
X-PUBLISHED-TTL:P3D
REFRESH-INTERVAL:P3D
CALSCALE:GREGORIAN
BEGIN:VEVENT
DTSTART:20230514T200000Z
DTEND:20230515T000000Z
X-MICROSOFT-CDO-ALLDAYEVENT:FALSE
SUMMARY:Positively Suzanne Royal Mother's Day Brunch
DESCRIPTION:Join us for an afternoon curated for mothers\, grab your tickets and leave the rest to us. Enjoy food\, mimosas\, dessert\, fun and other fabulous females.
X-ALT-DESC;FMTTYPE=text/html:Join us for an afternoon curated for mothers\, grab your tickets and leave the rest to us. Enjoy food\, mimosas\, dessert\, fun and other fabulous females.
LOCATION:Hilton garden Inn 35 major Taylor BLVD Worcester\, MA 01608
UID:e.2083.15278
SEQUENCE:3
DTSTAMP:20260421T024700Z
URL:https://business.cmschamber.org/events/details/positively-suzanne-royal-mother-s-day-brunch-15278
END:VEVENT

END:VCALENDAR
