BEGIN:VCALENDAR
VERSION:2.0
PRODID:-//ChamberMaster//Event Calendar 2.0//EN
METHOD:PUBLISH
X-PUBLISHED-TTL:P3D
REFRESH-INTERVAL:P3D
CALSCALE:GREGORIAN
BEGIN:VEVENT
DTSTART:20230305T220000Z
DTEND:20230306T010000Z
X-MICROSOFT-CDO-ALLDAYEVENT:FALSE
SUMMARY:Positively Suzanne Royal Tea Party
DESCRIPTION:Join us for a high fashion tea party\, this will be an evening of fashion\, fun\, food and fabulous females!
X-ALT-DESC;FMTTYPE=text/html:Join us for a high fashion tea party\, this will be an evening of fashion\, fun\, food and fabulous females!
LOCATION:Life Garden Cafe 1048 main Street Worcester\, MA 01603
UID:e.2083.15277
SEQUENCE:3
DTSTAMP:20260421T055825Z
URL:https://business.cmschamber.org/events/details/positively-suzanne-royal-tea-party-15277
END:VEVENT

END:VCALENDAR
