BEGIN:VCALENDAR
VERSION:2.0
PRODID:-//ChamberMaster//Event Calendar 2.0//EN
METHOD:PUBLISH
X-PUBLISHED-TTL:P3D
REFRESH-INTERVAL:P3D
CALSCALE:GREGORIAN
BEGIN:VEVENT
DTSTART:20231001T180000Z
DTEND:20231001T210000Z
X-MICROSOFT-CDO-ALLDAYEVENT:FALSE
SUMMARY:Positively Suzanne Royal Tea Party (Bridgerton themed)
DESCRIPTION:The Positively Suzanne brand is hosting its final Royal tea party of the 2023 year and it's an event you do not want to miss!\n\nSpend an afternoon with fabulous women at a Bridgerton themed Royal tea party\, dress up in fancy clothes and get carried away with other fabulous women as they sip and nibble all while celebrating each other.
X-ALT-DESC;FMTTYPE=text/html:<p>The Positively Suzanne brand is hosting its final Royal tea party of the 2023 year and it&#39\;s an event you do not want to miss!</p>\n\n<p>Spend an afternoon with fabulous women at a Bridgerton themed Royal tea party\, dress up in fancy clothes and get carried away with other fabulous women as they sip and nibble all while celebrating each other.&nbsp\;</p>\n
LOCATION:Life Garden Cafe 1048 Main Street Worcester\, MA 01608
UID:e.2083.16438
SEQUENCE:3
DTSTAMP:20260420T171404Z
URL:https://business.cmschamber.org/events/details/positively-suzanne-royal-tea-party-bridgerton-themed-16438
END:VEVENT

END:VCALENDAR
