BEGIN:VCALENDAR
VERSION:2.0
PRODID:-//ChamberMaster//Event Calendar 2.0//EN
METHOD:PUBLISH
X-PUBLISHED-TTL:P3D
REFRESH-INTERVAL:P3D
CALSCALE:GREGORIAN
BEGIN:VEVENT
DTSTART:20230614T210000Z
DTEND:20230615T000000Z
X-MICROSOFT-CDO-ALLDAYEVENT:FALSE
SUMMARY:Pride Month Community Night
DESCRIPTION:Join us next month on Wednesday\, June 14 from 5 - 8 PM at Venture Valley Mentor's June Community Night as we celebrate Pride Month! Hear pitches from local entrepreneurs\, connect with resources\, get inspired\, network with others and enjoy delicious local refreshments!
X-ALT-DESC;FMTTYPE=text/html:<div>Join us next month on Wednesday\, June 14 from 5 - 8 PM at Venture Valley Mentor&#39\;s June Community Night as we celebrate Pride Month! Hear pitches from local entrepreneurs\, connect with resources\, get inspired\, network with others and enjoy delicious local refreshments!</div>\n\n<div>&nbsp\;</div>\n
LOCATION:Valley Venture Mentors 276 Bridge Street\, Springfield MA 01103
UID:e.2083.15961
SEQUENCE:3
DTSTAMP:20260421T004634Z
URL:https://business.cmschamber.org/events/details/pride-month-community-night-15961
END:VEVENT

END:VCALENDAR
