BEGIN:VCALENDAR
VERSION:2.0
PRODID:-//ChamberMaster//Event Calendar 2.0//EN
METHOD:PUBLISH
X-PUBLISHED-TTL:P3D
REFRESH-INTERVAL:P3D
CALSCALE:GREGORIAN
BEGIN:VEVENT
DTSTART:20230428T210000Z
DTEND:20230429T000000Z
X-MICROSOFT-CDO-ALLDAYEVENT:FALSE
SUMMARY:Promo Print Plus 5th Birthday Speed Networking Party
DESCRIPTION:Promo Print Plus is excited to be celebrating our 5th Birthday and would love to have you join us!\n\n \n\nAn evening of networking\, games\, raffles\, and prizes is planned for April 28th\, 5-8 PM\, at the School Yahd in West Boylston!\n\n\n\nPLEASE RSVP on Eventbrite so we can have an accurate headcount: \n\nhttps://www.eventbrite.com/e/611572869917\n\n \n\nT?here will be a $20 suggested donation at the door to benefit the charity\; Tend to You. Learn more about this empowering cause here www.tendtoyou.org
X-ALT-DESC;FMTTYPE=text/html:<span style="color:black"><span style="font-family:cambria\,serif"><span style="font-size:12.0pt">Promo Print Plus is excited to be celebrating our 5<sup>th</sup>&nbsp\;Birthday and would love to have you join us!</span></span></span><br />\n&nbsp\;<br />\n<span style="color:black"><span style="font-family:cambria\,serif"><span style="font-size:12.0pt">An evening of networking\, games\, raffles\, and prizes is planned for April 28<sup>th\,</sup>&nbsp\;5-8 PM\, at the School Yahd in West Boylston!</span></span></span><br />\n<br />\n<span style="color:black"><span style="font-family:cambria\,serif"><span style="font-size:12.0pt">PLEASE RSVP on Eventbrite so we can have an accurate headcount:&nbsp\;</span></span></span><br />\n<span style="color:black"><span style="font-family:cambria\,serif"><span style="font-size:12.0pt"><a href="https://www.eventbrite.com/e/611572869917">https://www.eventbrite.com/e/611572869917</a></span></span></span><br />\n&nbsp\;<br />\n<span style="color:black"><span style="font-family:cambria\,serif"><span style="font-size:12.0pt">T</span></span></span>?<span style="color:black"><span style="font-family:cambria\,serif"><span style="font-size:12.0pt">here will be a $20 suggested donation at the door to benefit the charity\; Tend to You. Learn more about this empowering cause here <a href="http://www.tendtoyou.org" target="loopstyle_link">www.tendtoyou.org</a></span></span></span><br />\n&nbsp\;
LOCATION:School Yahd in West Boylston 216 W Boylston St #400\, West Boylston\, MA 01583
UID:e.2083.15927
SEQUENCE:3
DTSTAMP:20260421T042435Z
URL:https://business.cmschamber.org/events/details/promo-print-plus-5th-birthday-speed-networking-party-15927
END:VEVENT

END:VCALENDAR
