BEGIN:VCALENDAR
VERSION:2.0
PRODID:-//ChamberMaster//Event Calendar 2.0//EN
METHOD:PUBLISH
X-PUBLISHED-TTL:P3D
REFRESH-INTERVAL:P3D
CALSCALE:GREGORIAN
BEGIN:VEVENT
DTSTART:20200211T150000Z
DTEND:20200211T163000Z
X-MICROSOFT-CDO-ALLDAYEVENT:FALSE
SUMMARY:QCC Information Session on the Workforce Training Fund & Soft Skills Workshops
DESCRIPTION:Join us to learn about the MA Workforce Training Fund and the Direct Access Grant for Small Business. QCC will be offering a Spring Series of Soft Skills Workshops funded by the Direct Access Grant.\n\n\n\nWe can help you get started on your MA Training Exchange Training Account. Use the training dollars you have earned to keep your workforce competitive and working for you!\n\n\n\nTo register: Contact Christine McNally\, 508-857-7685 or cmcnally@qcc.mass.edu . Please register for parking information.
X-ALT-DESC;FMTTYPE=text/html:Join us to learn about the MA Workforce Training Fund and the Direct Access Grant for Small Business. QCC will be offering a Spring Series of Soft Skills Workshops funded by the Direct Access Grant.<br />\n<br />\nWe can help you get started on your MA Training Exchange Training Account. Use the training dollars you have earned to keep your workforce competitive and working for you!<br />\n<br />\nTo register: Contact Christine McNally\, 508-857-7685 or cmcnally@qcc.mass.edu . Please register for parking information.
LOCATION:Quinsigamond Community College 25 Federal Street\, Worcester MA 01608
UID:e.2083.11770
SEQUENCE:3
DTSTAMP:20260423T144545Z
URL:https://business.cmschamber.org/events/details/qcc-information-session-on-the-workforce-training-fund-soft-skills-workshops-11770
END:VEVENT

END:VCALENDAR
