BEGIN:VCALENDAR
VERSION:2.0
PRODID:-//ChamberMaster//Event Calendar 2.0//EN
METHOD:PUBLISH
X-PUBLISHED-TTL:P3D
REFRESH-INTERVAL:P3D
CALSCALE:GREGORIAN
BEGIN:VEVENT
DTSTART:20191112T130000Z
DTEND:20191121T170000Z
X-MICROSOFT-CDO-ALLDAYEVENT:FALSE
SUMMARY:QCC\, Soft Skills Workshop\, Presenting with Impact
DESCRIPTION:Learn how to engage an audience of one or one hundred in order to teach\, inspire or motivate! Through study of audience analysis\, relationship building and persuasion using their own audience type\, participants will present with impact! Each participant will design and deliver a presentation on a topic of their choice
X-ALT-DESC;FMTTYPE=text/html:Learn how to engage an audience of one or one hundred in order to teach\, inspire or motivate! Through study of audience analysis\, relationship building and persuasion using their own audience type\, participants will present with impact! Each participant will design and deliver a presentation on a topic of their choice
LOCATION:QCC Campus\, 25 Federal St\, Worcester QCC Campus\, 5 Optical Drive\, Southbridge Marlborough Chamber of Commerce
UID:e.2083.10597
SEQUENCE:3
DTSTAMP:20260423T193609Z
URL:https://business.cmschamber.org/events/details/qcc-soft-skills-workshop-presenting-with-impact-10597
END:VEVENT

END:VCALENDAR
