BEGIN:VCALENDAR
VERSION:2.0
PRODID:-//ChamberMaster//Event Calendar 2.0//EN
METHOD:PUBLISH
X-PUBLISHED-TTL:P3D
REFRESH-INTERVAL:P3D
CALSCALE:GREGORIAN
BEGIN:VEVENT
DTSTART:20191105T130000Z
DTEND:20191107T170000Z
X-MICROSOFT-CDO-ALLDAYEVENT:FALSE
SUMMARY:QCC Soft Skills Workshop\, Time Management
DESCRIPTION:In this workshop\, participants will analyze their current use of time and how to evaluate priorities through the concept of smart goals. Concepts of self-management\, management of the work environment and managing work relationships will be woven throughout the workshop.
X-ALT-DESC;FMTTYPE=text/html:In this workshop\, participants will analyze their current use of time and how to evaluate priorities through the concept of smart goals. Concepts of self-management\, management of the work environment and managing work relationships will be woven throughout the workshop.
LOCATION:QCC Campus\, 25 Federal Street\, Worcester QCC Campus\, 5 Optical Drive\, Southbridge Marlborough Chamber of Commerce
UID:e.2083.10596
SEQUENCE:3
DTSTAMP:20260423T211414Z
URL:https://business.cmschamber.org/events/details/qcc-soft-skills-workshop-time-management-10596
END:VEVENT

END:VCALENDAR
