BEGIN:VCALENDAR
VERSION:2.0
PRODID:-//ChamberMaster//Event Calendar 2.0//EN
METHOD:PUBLISH
X-PUBLISHED-TTL:P3D
REFRESH-INTERVAL:P3D
CALSCALE:GREGORIAN
BEGIN:VEVENT
DTSTART:20210707T141500Z
DTEND:20210728T153000Z
X-MICROSOFT-CDO-ALLDAYEVENT:FALSE
SUMMARY:Qigong & Tai Chi Movement (4 Week Session)
DESCRIPTION:Event Name: Qigong & Tai Chi Movement (4 Week Session) Event Date(s): Wednesday\, 7/7/2021\, 10:15 AM - 11:30 AM\, 1 hour\, 15 minutes Wednesday\, 7/14/2021\, 10:15 AM - 11:30 AM\, 1 hour\, 15 minutes Wednesday\, 7/21/2021\, 10:15 AM - 11:30 AM\, 1 hour\, 15 minutes Wednesday\, 7/28/2021\, 10:15 AM - 11:30 AM\, 1 hour\, 15 minutes Instructor: Rose Lee This program consists of four sessions. When registering\, please make sure all four sessions are selected. Rose is back to teach her popular Qigong & Tai Chi class! Explore these practices to improve health\, reduce stress\, and increase endurance and mobility. In the tranquil environment of Tower Hill you will breathe deeply and practice gentle fluid movements mindfully to reduce stress and improve strength\, balance\, coordination\, flexibility\, range of motion\, and stamina. June Session (4 Weeks): Wednesdays\, June 2-23 | 10:15-11:30AM July Session (4 Weeks): Wednesdays\, July 7-28 | 10:15-11:30AM Aug Session (4 Weeks): Wednesdays Aug 4-25 | 10:15-11:30AM Rose Lee has been teaching Chinese martial arts for more than 20 years in fitness clubs\, retirement communities and senior centers. Rose is also an experienced Nutrition and Cooking Instructor teaching and promoting plant-based diet and life style since 1999. She is currently producing a "Veggie Planet Cooking Show" on WayCamTV in Wayland\, MA\, Rose is an inspiring enthusiastic instructor. $65 Member Adult\; $80 Adult (Registration includes admission to the Garden) Additional Program Information Please dress in comfortable loose layers. Please note\, there is currently construction happening at Tower Hill\, which may result in altered or obstructed walkways\, parking lots\, or parking spaces\, in addition to some noise.
X-ALT-DESC;FMTTYPE=text/html:Event Name: Qigong &amp\; Tai Chi Movement (4 Week Session) Event Date(s): Wednesday\, 7/7/2021\, 10:15 AM - 11:30 AM\, 1 hour\, 15 minutes Wednesday\, 7/14/2021\, 10:15 AM - 11:30 AM\, 1 hour\, 15 minutes Wednesday\, 7/21/2021\, 10:15 AM - 11:30 AM\, 1 hour\, 15 minutes Wednesday\, 7/28/2021\, 10:15 AM - 11:30 AM\, 1 hour\, 15 minutes Instructor: Rose Lee This program consists of four sessions. When registering\, please make sure all four sessions are selected. Rose is back to teach her popular Qigong &amp\; Tai Chi class! Explore these practices to improve health\, reduce stress\, and increase endurance and mobility. In the tranquil environment of Tower Hill you will breathe deeply and practice gentle fluid movements mindfully to reduce stress and improve strength\, balance\, coordination\, flexibility\, range of motion\, and stamina. June Session (4 Weeks): Wednesdays\, June 2-23 | 10:15-11:30AM July Session (4 Weeks): Wednesdays\, July 7-28 | 10:15-11:30AM Aug Session (4 Weeks): Wednesdays Aug 4-25 | 10:15-11:30AM Rose Lee has been teaching Chinese martial arts for more than 20 years in fitness clubs\, retirement communities and senior centers. Rose is also an experienced Nutrition and Cooking Instructor teaching and promoting plant-based diet and life style since 1999. She is currently producing a &quot\;Veggie Planet Cooking Show&quot\; on WayCamTV in Wayland\, MA\, Rose is an inspiring enthusiastic instructor. $65 Member Adult\; $80 Adult (Registration includes admission to the Garden) Additional Program Information Please dress in comfortable loose layers. Please note\, there is currently construction happening at Tower Hill\, which may result in altered or obstructed walkways\, parking lots\, or parking spaces\, in addition to some noise.
LOCATION:Tower Hill Botanic Garden 11 French Drive Boylston
UID:e.2083.13000
SEQUENCE:3
DTSTAMP:20260422T115647Z
URL:https://business.cmschamber.org/events/details/qigong-tai-chi-movement-4-week-session-13000
END:VEVENT

END:VCALENDAR
