BEGIN:VCALENDAR
VERSION:2.0
PRODID:-//ChamberMaster//Event Calendar 2.0//EN
METHOD:PUBLISH
X-PUBLISHED-TTL:P3D
REFRESH-INTERVAL:P3D
CALSCALE:GREGORIAN
BEGIN:VEVENT
DTSTART:20240213T200000Z
DTEND:20240213T210000Z
X-MICROSOFT-CDO-ALLDAYEVENT:FALSE
SUMMARY:RCAP Solutions Webinar: Home Modification Loan Program (HMLP) Overview
DESCRIPTION:Attendees will get an overview of the Home Modification Loan Program (HMLP) and how it can help you or a loved one live comfortably and independently at home.\n\n\n\nIn addition\, you'll have the opportunity to ask questions and make valuable connections with the RCAP Solutions staff!\n\n\n\nHMLP is a state-funded lending program that provides no-interest loans to homeowners to fund necessary changes to keep themselves or a family member with a disability or mobility impairment living comfortably in their own home.\n\n\n\nThe program has generous income guidelines and allows for accessibility renovations based on the household member's medical need. This program can benefit anyone in the house who has a disability or mobility impairment\; the homeowner themself\, their child\, or an elderly family member.
X-ALT-DESC;FMTTYPE=text/html:<span style="background-color:rgb(255\, 255\, 255)\; color:rgb(35\, 35\, 51)\; font-family:helvetica neue\,helvetica\,arial\,sans-serif\; font-size:14px">Attendees will get an overview of the <a href="https://www.rcapsolutions.org/HMLP/" target="_blank">Home Modification Loan Program (HMLP)</a> and how it can help you or a loved one live comfortably and independently at home.<br />\n<br />\nIn addition\, you&rsquo\;ll have the opportunity to ask questions and make valuable connections with the RCAP Solutions staff!<br />\n<br />\nHMLP is a state-funded lending program that provides no-interest loans to homeowners to fund necessary changes to keep themselves or a family member with a disability or mobility impairment living comfortably in their own home.<br />\n<br />\nThe program has generous income guidelines and allows for accessibility renovations based on the household member&rsquo\;s medical need. <strong>This program can benefit anyone in the house who has a disability or mobility impairment\; the homeowner themself\, their child\, or an elderly family member.</strong></span>
LOCATION:Zoom Webinar
UID:e.2083.17233
SEQUENCE:3
DTSTAMP:20260420T102355Z
URL:https://business.cmschamber.org/events/details/rcap-solutions-webinar-home-modification-loan-program-hmlp-overview-17233
END:VEVENT

END:VCALENDAR
