BEGIN:VCALENDAR
VERSION:2.0
PRODID:-//ChamberMaster//Event Calendar 2.0//EN
METHOD:PUBLISH
X-PUBLISHED-TTL:P3D
REFRESH-INTERVAL:P3D
CALSCALE:GREGORIAN
BEGIN:VEVENT
DTSTART:20220930T210000Z
DTEND:20220930T230000Z
X-MICROSOFT-CDO-ALLDAYEVENT:FALSE
SUMMARY:REC Annual Farm Party and 50th Anniversary Celebration
DESCRIPTION:Join the Regional Environmental Council at their annual Farm Party where they will be celebrating their 50th anniversary with live music\, activities for kids\, delicious local food and beverages\, a raffle\, and youth led tours of their YouthGROW urban farm.\n\n \n\n\nAll proceeds from the Farm Party will support the REC's Community and Mobile Farmers Markets that bring fresh\, affordable\, local produce to 17 locations each week in neighborhoods in Worcester\, Webster\, and Southbridge\; the 65 UGROW community and school gardens that\n\nare provided with ongoing free resources\, training and support\; the YouthGROW employment\n\nand leadership development program for Worcester teens centered around 2 urban farms in\n\nWorcester's Main South and Bell Hill neighborhoods\; and will help fuel their mission to bring people together to build a just food system and create healthy\, sustainable\, and equitable\n\ncommunities in Worcester and beyond!\n\nFor more information and to purchase tickets\, go to www.recworcester.org/farm-party\n\nREC's Farm Party is sponsored by: MassLive
X-ALT-DESC;FMTTYPE=text/html:<div>Join the Regional Environmental Council at their annual Farm Party where they will be celebrating their 50th anniversary with live music\, activities for kids\, delicious local food and beverages\, a raffle\, and youth led tours of their YouthGROW urban farm.</div>\n\n<div>&nbsp\;</div>\n\n<div>\n<div>All proceeds from the Farm Party will support the REC&rsquo\;s Community and Mobile Farmers Markets that bring fresh\, affordable\, local produce to 17 locations each week in neighborhoods in Worcester\, Webster\, and Southbridge\; the 65 UGROW community and school gardens that</div>\n\n<div>are provided with ongoing free resources\, training and support\; the YouthGROW employment</div>\n\n<div>and leadership development program for Worcester teens centered around 2 urban farms in</div>\n\n<div>Worcester&rsquo\;s Main South and Bell Hill neighborhoods\; and will help fuel their mission to bring people together to build a just food system and create healthy\, sustainable\, and equitable</div>\n\n<div>communities in Worcester and beyond!</div>\n\n<div>For more information and to purchase tickets\, go to www.recworcester.org/farm-party</div>\n\n<div>REC&rsquo\;s Farm Party is sponsored by: MassLive</div>\n</div>\n
LOCATION:REC YouthGROW Farm 42 Lagrange Street Worcester\, MA
UID:e.2083.14071
SEQUENCE:3
DTSTAMP:20260421T155618Z
URL:https://business.cmschamber.org/events/details/rec-annual-farm-party-and-50th-anniversary-celebration-14071
END:VEVENT

END:VCALENDAR
