BEGIN:VCALENDAR
VERSION:2.0
PRODID:-//ChamberMaster//Event Calendar 2.0//EN
METHOD:PUBLISH
X-PUBLISHED-TTL:P3D
REFRESH-INTERVAL:P3D
CALSCALE:GREGORIAN
BEGIN:VEVENT
DTSTART:20230422T140000Z
DTEND:20230422T160000Z
X-MICROSOFT-CDO-ALLDAYEVENT:FALSE
SUMMARY:REC Earth Day Cleanup - Worcester Green Corps Site
DESCRIPTION:Join the Worcester Green Corps as we clean up the Green Island neighborhood! We will be joining the hundreds of sites organized through the Regional Environmental Council for this huge city-wide cleanup in celebration of Earth Day! After the cleanup\, volunteers will be invited to a cookout hosted by the REC to thank everyone for their contributions.
X-ALT-DESC;FMTTYPE=text/html:Join the Worcester Green Corps as we clean up the Green Island neighborhood! We will be joining the hundreds of sites organized through the Regional Environmental Council for this huge city-wide cleanup in celebration of Earth Day! After the cleanup\, volunteers will be invited to a cookout hosted by the REC to thank everyone for their contributions.
LOCATION:We will be meeting at Crompton Park\, on the corner of Harding and Endicott street. Ample parking is available on Endicott Street.
UID:e.2083.15470
SEQUENCE:3
DTSTAMP:20260421T042531Z
URL:https://business.cmschamber.org/events/details/rec-earth-day-cleanup-worcester-green-corps-site-15470
END:VEVENT

END:VCALENDAR
