BEGIN:VCALENDAR
VERSION:2.0
PRODID:-//ChamberMaster//Event Calendar 2.0//EN
METHOD:PUBLISH
X-PUBLISHED-TTL:P3D
REFRESH-INTERVAL:P3D
CALSCALE:GREGORIAN
BEGIN:VEVENT
DTSTART:20230422T120000Z
DTEND:20230422T160000Z
X-MICROSOFT-CDO-ALLDAYEVENT:FALSE
SUMMARY:REC's 33rd Annual Earth Day Cleanups
DESCRIPTION:Since 1989\, the Regional Environmental Council has partnered with caring residents and local businesses to clean-up and beautify sites in Worcester's neighborhoods\, parks\, and business districts.\n\n\n\nOur 2022 event recruited over 1\,000 volunteers who cleaned-up at more than 70 sites. At the end of the day\, the Worcester Department of Public Works and Parks kindly removed all of the trash from those sites. Our goal for the 33rd Annual Earth Day Cleanup is to recruit 1\,200 volunteers to clean-up 70 sites around Worcester. \n\nClean-ups will begin at 8:00 am and will be followed by a cook-out\, with live entertainment\, games\, activities\, and farm tours\, at our YouthGROW farm and REC office at 42 Lagrange Street at noon.\n\n\n\nVolunteer registration is open! Register yourself or your team today! The REC will provide you with all the supplies you will need to clean up your site.\n\nFind out more at https://www.recworcester.org/earthday
X-ALT-DESC;FMTTYPE=text/html:<p><span style="font-size:14px"><span style="font-family:arial\,helvetica\,sans-serif">Since 1989\, the Regional Environmental Council has partnered with caring residents and local businesses to clean-up and beautify sites in Worcester&rsquo\;s neighborhoods\, parks\, and business districts.<br />\n<br />\n<span style="background-color:transparent">Our 2022 event recruited over 1\,000 volunteers who cleaned-up at more than 70 sites. At the end of the day\, the Worcester Department of Public Works and Parks kindly removed all of the trash from those sites. </span>Our goal for the 33rd Annual Earth Day Cleanup is to recruit 1\,200 volunteers to clean-up 70 sites around Worcester.&nbsp\;</span></span></p>\n\n<p><span style="font-size:14px"><span style="font-family:arial\,helvetica\,sans-serif">Clean-ups will begin at 8:00 am and will be followed by a cook-out\, with live entertainment\, games\, activities\, and farm tours\, at our YouthGROW farm and REC office at 42 Lagrange Street at noon.<br />\n<br />\nVolunteer registration is open! Register yourself or your team today! The REC will provide you with all the supplies you will need to clean up your site.<br />\nFind out more at https://www.recworcester.org/earthday</span></span></p>\n
LOCATION:Clean up sites through out the city of Worcester. Earth Day cook-out will be held at the REC YouthGROW Farm at 42 Lagrange Street\, Worcester
UID:e.2083.15460
SEQUENCE:3
DTSTAMP:20260421T042356Z
URL:https://business.cmschamber.org/events/details/rec-s-33rd-annual-earth-day-cleanups-15460
END:VEVENT

END:VCALENDAR
