BEGIN:VCALENDAR
VERSION:2.0
PRODID:-//ChamberMaster//Event Calendar 2.0//EN
METHOD:PUBLISH
X-PUBLISHED-TTL:P3D
REFRESH-INTERVAL:P3D
CALSCALE:GREGORIAN
BEGIN:VEVENT
DTSTART:20230503T160000Z
DTEND:20230503T173000Z
X-MICROSOFT-CDO-ALLDAYEVENT:FALSE
SUMMARY:Recommended Steps to Getting “Procurement Ready”
DESCRIPTION:Have you considered growing your business through government contracting? Join us as we walk through:\n\n\n	Building a solid business foundation to help ensure you are procurement ready.\n	Basic steps to implement to get procurement ready.\n	Finding procurement opportunities that exist with government entities.\n\n\nWe will leave the last 20 minutes for Q&A\, so be sure to bring all your questions!
X-ALT-DESC;FMTTYPE=text/html:<p>Have you considered growing your business through government contracting? Join us as we walk through:</p>\n\n<ul>\n	<li>Building a solid business foundation to help ensure you are procurement ready.</li>\n	<li>Basic steps to implement to get procurement ready.</li>\n	<li>Finding procurement opportunities that exist with government entities.</li>\n</ul>\n\n<p>We will leave the last 20 minutes for Q&amp\;A\, so be sure to bring all your questions!</p>\n
LOCATION:Zoom
UID:e.2083.15933
SEQUENCE:3
DTSTAMP:20260421T024029Z
URL:https://business.cmschamber.org/events/details/recommended-steps-to-getting-procurement-ready-15933
END:VEVENT

END:VCALENDAR
