BEGIN:VCALENDAR
VERSION:2.0
PRODID:-//ChamberMaster//Event Calendar 2.0//EN
METHOD:PUBLISH
X-PUBLISHED-TTL:P3D
REFRESH-INTERVAL:P3D
CALSCALE:GREGORIAN
BEGIN:VEVENT
DTSTART:20230805T133000Z
DTEND:20230806T090000Z
X-MICROSOFT-CDO-ALLDAYEVENT:FALSE
SUMMARY:Redcoats & Rebels
DESCRIPTION:Redcoats & Rebels returns on August 5th and 6th! See the largest military re-enactment in New England with hundreds of costumed Revolutionary War reenactors\, both soldiers and civilians\, encamped on the Village Common. Visitors can not only explore our exhibits\, galleries\, and demonstrations and talk with our costumed historians about everyday life in early New England\, but also tour the camps\, witness recreated skirmishes and battles\, see special presentations\, chat with guest craftspeople\, and enjoy fife and drum music. Redcoats & Rebels 2023 is hosted by His Majesty's 10th Regiment of Foot and the Lexington Minute Men.\n\nIf you are part of a Revolutionary War reenacting group and are interested in being a part of the event\, please email events@osv.org\n\n \n\nTickets\n\nDue to the popularity of this event\, we ask that members reserve tickets and non-members purchase tickets in advance. You are welcome to arrive anytime after the Village opens (9.30 a.m.) and stay until the Village closes. Click your preferred date below to get tickets.\n\nSaturday\, August 5\, 2023\n\nSunday\, August 6\, 2023\n\n \n\nComing a Distance? Book an Overnight!\n\nOur Redcoats & Rebels overnight package at the Old Sturbridge Inn & Reeder Family Lodges includes a one-night stay\, two tickets to the Village\, and a handheld flag. Discounts are available for first responders and members of the military. Click here to learn more.
X-ALT-DESC;FMTTYPE=text/html:<p>Redcoats &amp\; Rebels returns on August 5th and 6th! See the largest military re-enactment in New England with hundreds of costumed Revolutionary War reenactors\, both soldiers and civilians\, encamped on the Village Common. Visitors can not only explore our exhibits\, galleries\, and demonstrations and talk with our costumed historians about everyday life in early New England\, but also tour the camps\, witness recreated skirmishes and battles\, see special presentations\, chat with guest craftspeople\, and enjoy fife and drum music. Redcoats &amp\; Rebels 2023 is hosted by&nbsp\;<a href="http://www.redcoat.org/index.html" style="box-sizing: border-box\; background: transparent\; color: rgb(0\, 148\, 215)\; text-decoration-line: none\;">His Majesty&rsquo\;s 10th Regiment of Foot</a>&nbsp\;and the&nbsp\;<a href="https://www.lexingtonminutemen.com/" style="box-sizing: border-box\; background: transparent\; color: rgb(0\, 148\, 215)\; text-decoration-line: none\;">Lexington Minute Men</a>.</p>\n\n<p>If you are part of a Revolutionary War reenacting group and are interested in being a part of the event\, please email&nbsp\;<a href="mailto:events@osv.org" style="box-sizing: border-box\; background: transparent\; color: rgb(0\, 148\, 215)\; text-decoration-line: none\;">events@osv.org</a></p>\n\n<p>&nbsp\;</p>\n\n<p><strong>Tickets</strong></p>\n\n<p><strong>Due to the popularity of this event\, we ask that members reserve tickets and non-members purchase tickets in advance.</strong>&nbsp\;You are welcome to arrive anytime after the Village opens (9.30 a.m.) and stay until the Village closes. Click your preferred date below to get tickets.</p>\n\n<p><a href="http://10797.blackbaudhosting.com/10797/Admission---Old-Sturbridge-Village-Advance-Sales-05Aug2023" style="box-sizing: border-box\; background: transparent\; color: rgb(0\, 148\, 215)\; text-decoration-line: none\;">Saturday\, August 5\, 2023</a></p>\n\n<p><a href="https://10797.blackbaudhosting.com/10797/Admission---Old-Sturbridge-Village-Advance-Sales-06Aug2023" style="box-sizing: border-box\; background: transparent\; color: rgb(0\, 148\, 215)\; text-decoration-line: none\;">Sunday\, August 6\, 2023</a></p>\n\n<p>&nbsp\;</p>\n\n<p>Coming a Distance? Book an Overnight!</p>\n\n<p>Our Redcoats &amp\; Rebels overnight package at the Old Sturbridge Inn &amp\; Reeder Family Lodges includes a one-night stay\, two tickets to the Village\, and a handheld flag. Discounts are available for first responders and members of the military.&nbsp\;<a href="https://www.osv.org/visit/lodging#redcoats" style="box-sizing: border-box\; background: transparent\; color: rgb(0\, 148\, 215)\; text-decoration-line: none\;">Click here to learn more</a>.</p>\n
LOCATION:Old Sturbridge Village 1 Old Sturbridge Village Rd\, Sturbridge\, MA\, 01566
UID:e.2083.16038
SEQUENCE:3
DTSTAMP:20260420T205945Z
URL:https://business.cmschamber.org/events/details/redcoats-rebels-16038
END:VEVENT

END:VCALENDAR
