BEGIN:VCALENDAR
VERSION:2.0
PRODID:-//ChamberMaster//Event Calendar 2.0//EN
METHOD:PUBLISH
X-PUBLISHED-TTL:P3D
REFRESH-INTERVAL:P3D
CALSCALE:GREGORIAN
BEGIN:VEVENT
DTSTART:20230416T010000Z
DTEND:20230416T130000Z
X-MICROSOFT-CDO-ALLDAYEVENT:FALSE
SUMMARY:Relay For Life of WPI
DESCRIPTION:Relay For Life is the world's largest volunteer-based fundraising event. For more than 36 years\, communities across the world have come together to honor and remember loved ones and take action for live saving change.\n\n\n\nAt Relay For Life of WPI\, community members and businesses have the opportunity to support WPI student volunteers in this fundraising effort. Relay For Life is one of the biggest student-run events at WPI\, hosting thousands of dedicated students every year.
X-ALT-DESC;FMTTYPE=text/html:Relay For Life is the world&#39\;s largest volunteer-based fundraising event. For more than 36 years\, communities across the world&nbsp\;have come together to honor and remember loved ones and take action for live saving change.<br />\n<br />\nAt Relay For Life of WPI\, community members and businesses have the opportunity to support WPI student volunteers in this fundraising effort. Relay For Life is one of the biggest student-run events at WPI\, hosting thousands of dedicated students every year.<br />\n&nbsp\;
LOCATION:Worcester Polytechnic Institute 100 Institute Road Worcester\, MA 01609
UID:e.2083.15453
SEQUENCE:3
DTSTAMP:20260421T042604Z
URL:https://business.cmschamber.org/events/details/relay-for-life-of-wpi-15453
END:VEVENT

END:VCALENDAR
