BEGIN:VCALENDAR
VERSION:2.0
PRODID:-//ChamberMaster//Event Calendar 2.0//EN
METHOD:PUBLISH
X-PUBLISHED-TTL:P3D
REFRESH-INTERVAL:P3D
CALSCALE:GREGORIAN
BEGIN:VEVENT
DTSTART:20230930T133000Z
DTEND:20230930T160000Z
X-MICROSOFT-CDO-ALLDAYEVENT:FALSE
SUMMARY:Reliant Foundation 5K Fundraiser
DESCRIPTION:This certified\, chip-timed 5K race takes participants around scenic Indian Lake in Worcester. Starting and finishing at Shore Park\, the race is organized with two strong community partners: Greendale Family Branch YMCA\, and Bancroft School.\n\n\n\nIndividuals of all ages can run or walk to support funding for programs and services that strengthen mental health and behavioral health programs and services for children and youth\; help individuals of all ages reach recovery from substance use disorder\; and create initiatives to reduce stigma around mental health and substance use disorder.\n\n\n\nPrizes will be awarded for individuals and teams. Spectators are welcome and encouraged to join us! This fun\, family-friendly event will feature music\, refreshments\, raffles and visits from local sports team mascots.
X-ALT-DESC;FMTTYPE=text/html:<span style="font-size:12px"><span style="font-family:tahoma">This certified\, chip-timed 5K race takes participants around scenic Indian Lake in Worcester. Starting and finishing at Shore Park\, the race is organized with two strong community partners: Greendale Family Branch YMCA\, and Bancroft School.<br />\n<br />\nIndividuals of all ages can run or walk to support funding for programs and services that strengthen mental health and behavioral health programs and services for children and youth\; help individuals of all ages reach recovery from substance use disorder\; and create initiatives to reduce stigma around mental health and substance use disorder.<br />\n<br />\nPrizes will be awarded for individuals and teams. Spectators are welcome and encouraged to join us! This fun\, family-friendly event will feature music\, refreshments\, raffles and visits from local sports team mascots.</span></span><br />\n&nbsp\;
LOCATION:Shore Park\, 115 Shore Drive\, Worcester\, MA 01605
UID:e.2083.16037
SEQUENCE:3
DTSTAMP:20260420T190445Z
URL:https://business.cmschamber.org/events/details/reliant-foundation-5k-fundraiser-16037
END:VEVENT

END:VCALENDAR
