BEGIN:VCALENDAR
VERSION:2.0
PRODID:-//ChamberMaster//Event Calendar 2.0//EN
METHOD:PUBLISH
X-PUBLISHED-TTL:P3D
REFRESH-INTERVAL:P3D
CALSCALE:GREGORIAN
BEGIN:VEVENT
DTSTART:20221001T140000Z
DTEND:20221001T160000Z
X-MICROSOFT-CDO-ALLDAYEVENT:FALSE
SUMMARY:Reliant Foundation 5K Road Race
DESCRIPTION:RUN OR WALK FOR A HEALTHIER COMMUNITY !\n\nReliant Foundation 5K Road Race\n\nSaturday\, October 1  -  Shore Park\, Worcester\n\nRace Start: 10am\n\nRace day registration opens at 8:30am\n\n \nThis certified\, chip-timed race attracts hundreds of runner\, walkers and spectators to raise funds in support of the Foundation's Community Grants Program. The event features free\, family-friendly entertainment and great raffles.\n\nEarly bird registration rates are available until August 31. Registration remains open through September 29.  There is no cost for spectators to attend. To register\, or for more info: www.reliantfoundation.org/events/5K\n\n\n\n*Reliant Foundation is an independent public charity that supports mental health and behavioral health programs for children/youth\, substance use recovery programs for all individuals\, and new initiatives to fight the stigma.
X-ALT-DESC;FMTTYPE=text/html:<div style="text-align: center\;"><em><strong>RUN OR WALK FOR A HEALTHIER COMMUNITY !</strong></em></div>\n\n<div style="text-align: center\;"><strong>Reliant Foundation 5K Road Race<br />\nSaturday\, October 1&nbsp\; -&nbsp\; Shore Park\, Worcester<br />\nRace Start: 10am</strong><br />\n<em>Race day registration opens at 8:30am</em><br />\n&nbsp\;</div>\nThis certified\, chip-timed race attracts hundreds of runner\, walkers and spectators to raise funds in support of the Foundation&#39\;s Community Grants Program.&nbsp\;<span style="background-color:rgb(255\, 255\, 255)\; color:rgb(51\, 51\, 51)\; font-family:sans-serif\,arial\,verdana\,trebuchet ms\; font-size:13px">The event features free\, family-friendly entertainment and great raffles.</span><br />\n<u><strong>Early bird registration rates are available until August 31</strong></u>. Registration remains open through September 29.&nbsp\; There is no cost for spectators to attend. To register\, or for more info: <u><strong>www.reliantfoundation.org/events/5K</strong></u><br />\n<br />\n<em>*Reliant Foundation is an independent public charity that supports mental health and behavioral health programs for children/youth\, substance use recovery programs for all individuals\, and new initiatives to fight the stigma.</em>
LOCATION:
UID:e.2083.14077
SEQUENCE:3
DTSTAMP:20260421T141813Z
URL:https://business.cmschamber.org/events/details/reliant-foundation-5k-road-race-14077
END:VEVENT

END:VCALENDAR
